BEGIN:VCALENDAR
VERSION:2.0
PRODID:-//wp-events-plugin.com//7.2.3.1//EN
TZID:Europe/Berlin
X-WR-TIMEZONE:Europe/Berlin
BEGIN:VEVENT
UID:12954@literaturseiten-muenchen.de
DTSTART;TZID=Europe/Berlin:20260520T190000
DTEND;TZID=Europe/Berlin:20260520T203000
DTSTAMP:20260415T161702Z
URL:https://www.literaturseiten-muenchen.de/veranstaltungen/sacha-wenk-sha
 olin-life/
SUMMARY:Sacha Wenk „Shaolin Life“
DESCRIPTION:„Shaolin Life“ – eine Lesung mit Sacha Wenk\n\nEiner der 
 größten Influencer im Bereich Kung Fu\n\nSacha Wenk ist als „Shaolin K
 id“ weltweit bekannt\, hat fast vier Millionen Follower auf Insta gram u
 nd zählt zu den größten Influencern im Bereich Kung Fu.\n\nIn seinem Bu
 ch „Shaolin Life“ beschreibt Sacha Wenk eindrucksvoll\, wie die jahrta
 usendealten Traditionen und Weisheiten des Kung Fu sein Leben von Grund au
 f verändert haben. Er zeigt außerdem\, wie auch Du Dein Leben heute zu d
 em machst\, das Du leben möchtest. Fokus\, Mut\, Disziplin\, Geduld und D
 emut: Gegliedert nach den fünf zentralen Tugenden des Shaolin Kung Fu hil
 ft Dir sein Buch\, Schritt für Schritt die Kraft zu erwecken\, die bereit
 s tief in Dir steckt\, um so jedes Ziel zu erreichen\, das Du Dir vornimms
 t. Die Kraft\, Dein Leben zu verändern\, liegt in Dir: Erkenne sie und le
 rne\, sie zu nutzen!\n\nTIckets: bergson.com/15-25€
CATEGORIES:Lesung
LOCATION:Bergson Kunstkraftwerk\, Am Bergson Kunstkraftwerk 2\, München\, 
 Bayern\, 81245\, Deutschland
GEO:48.162662;11.424993
X-APPLE-STRUCTURED-LOCATION;VALUE=URI;X-ADDRESS=Am Bergson Kunstkraftwerk 2
 \, München\, Bayern\, 81245\, Deutschland;X-APPLE-RADIUS=100;X-TITLE=Berg
 son Kunstkraftwerk:geo:48.162662,11.424993
END:VEVENT
BEGIN:VTIMEZONE
TZID:Europe/Berlin
X-LIC-LOCATION:Europe/Berlin
BEGIN:DAYLIGHT
DTSTART:20260329T030000
TZOFFSETFROM:+0100
TZOFFSETTO:+0200
TZNAME:CEST
END:DAYLIGHT
END:VTIMEZONE
END:VCALENDAR