BEGIN:VCALENDAR
VERSION:2.0
PRODID:-//wp-events-plugin.com//7.2.3.1//EN
TZID:Europe/Berlin
X-WR-TIMEZONE:Europe/Berlin
BEGIN:VEVENT
UID:11996@literaturseiten-muenchen.de
DTSTART;TZID=Europe/Berlin:20251104T200000
DTEND;TZID=Europe/Berlin:20251104T200000
DTSTAMP:20251017T103143Z
URL:https://www.literaturseiten-muenchen.de/veranstaltungen/sascha-lange-d
 ie-depeche-mode-trilogie/
SUMMARY:Sascha Lange\, „Die Depeche Mode Trilogie“
DESCRIPTION:Eine Lesung aus drei Büchern über Depeche Mode\n\nSascha Lang
 e lädt wieder ein zu einem unterhaltsamen und nostalgischen Abend voller 
 Geschichten\, Bilder &amp\; Videos von und über Depeche Mode\, ihren Fans
  und diesem besonderen Lebensgefühl.\n\nDepeche Mode sind seit mehr als 4
 0 Jahren eine der faszinierendsten Bands weltweit. Sascha Lange und Dennis
  Burmeister haben ihr in den letzten 12 Jahren mit ihren drei Bestsellern 
 Depeche Mode MONUMENT\, Behind The Wall – Depeche Mode Fankultur in der 
 DDR und zuletzt Depeche Mode LIVE umfangreiche und reich bebilderte Denkm
 äler gesetzt\, die in mehrere Sprachen übersetzt wurden.\n\nNach der oft
 mals ausverkauften Lesetour zu Depeche Mode LIVE 2023/24 geht Sascha Lange
  mit einem neuen reich bebilderten Programm aus allen drei Büchern wieder
  auf Reisen. Ein unterhaltsamer Abend voller Fanliebe\, Nostalgie und Übe
 rraschendes über die Lieblingsband von zehntausenden Menschen in Deutschl
 and und weltweit.\n\nEs wird natürlich sehr fetzig…\n\nEinlass 19:30 Uh
 r\n\nTickets: loveyourartist.com\, 22€
CATEGORIES:Lesung
LOCATION:Heppel &amp\; Ettlich\, Feilitzschstr. 12\, München\, Deutschland
GEO:48.161154;11.588873
X-APPLE-STRUCTURED-LOCATION;VALUE=URI;X-ADDRESS=Feilitzschstr. 12\, Münche
 n\, Deutschland;X-APPLE-RADIUS=100;X-TITLE=Heppel & Ettlich:geo:48.161154,
 11.588873
END:VEVENT
BEGIN:VTIMEZONE
TZID:Europe/Berlin
X-LIC-LOCATION:Europe/Berlin
BEGIN:STANDARD
DTSTART:20251026T020000
TZOFFSETFROM:+0200
TZOFFSETTO:+0100
TZNAME:CET
END:STANDARD
END:VTIMEZONE
END:VCALENDAR