BEGIN:VCALENDAR
VERSION:2.0
PRODID:-//wp-events-plugin.com//7.2.3.1//EN
TZID:Europe/Berlin
X-WR-TIMEZONE:Europe/Berlin
BEGIN:VEVENT
UID:12861@literaturseiten-muenchen.de
DTSTART;TZID=Europe/Berlin:20260508T200000
DTEND;TZID=Europe/Berlin:20260509T220000
DTSTAMP:20260417T080712Z
URL:https://www.literaturseiten-muenchen.de/veranstaltungen/schlingensief-
 abende-sprecher-martin-pfisterer/
SUMMARY:SCHLINGENSIEF- Abende | Sprecher: Martin Pfisterer
DESCRIPTION:Freitag\, 08. Mai 2026 | "So schön wie hier kanns im Himmel ga
 r nicht sein"\nSamstag\, 09. Mai 2026 | Ich weiss\, ich war’s\nIm Januar
  2008 wird bei dem bekannten Film-\, Theater- und Opernregisseur\, Aktions
 - und Installationskünstler Christoph Schlingensief Lungenkrebs diagnosti
 ziert. Ein Lungenflügel wird entfernt\, Chemotherapie und Bestrahlungen f
 olgen\, die Prognose ist ungewiss…ein Albtraum der Freiheitsberaubung. W
 enige Tage nach der Diagnose beginnt Schlingensief zu sprechen\, mit sich 
 selbst\, mit Freunden\, mit seinem toten Vater\, mit Gott.\nImmer eingesch
 altet: ein Diktiergerät\, das diese Gespräche aufzeichnet. Er umkreist d
 ie Fragen\, die ihm die Krankheit aufzwingt: Wer ist man gewesen? Wie weit
 erarbeiten\, wenn das Tempo der Welt plötzlich zu schnell geworden ist? W
 ie sterben? Und wo ist eigentlich Gott…?\nSchlingensiefs Worte lassen un
 s teilhaben an sein eindringlichen Suche nach sich selbst\, nach Gott und 
 nach der Liebe zum Leben…Sein bewegendes Protokoll einer Selbstbefragung
  ist ein Geschenk an uns alle…\n„Ich weiss\, ich war’s“ erinnert s
 ich an seine Kindheit in Oberhausen und seine Anfänge als Filmemacher\, a
 n schwierige und erfüllende Stationen seines Künstlerlebens in Berlin\, 
 Wien\, auf dem afrikanischen Kontinent – sowie nicht zuletzt an seine Er
 lebnisse auf dem grünen Hügel Bayreuths. „Ich weiß\, ich war’s“ z
 eigt einen Christoph Schlingensief\, der voller Tatendrang am Leben teilni
 mmt\, mal humorvoll\, mal selbstkritisch\, immer aber leidenschaftlich und
  mit Blick nach vorn.\nwww.martin-pfisterer.de
CATEGORIES:Lesung
LOCATION:La Cantina\, Elisabethstrasse 51\, München\, Deutschland
GEO:48.159495;11.564126
X-APPLE-STRUCTURED-LOCATION;VALUE=URI;X-ADDRESS=Elisabethstrasse 51\, Münc
 hen\, Deutschland;X-APPLE-RADIUS=100;X-TITLE=La Cantina:geo:48.159495,11.5
 64126
END:VEVENT
BEGIN:VTIMEZONE
TZID:Europe/Berlin
X-LIC-LOCATION:Europe/Berlin
BEGIN:DAYLIGHT
DTSTART:20260329T030000
TZOFFSETFROM:+0100
TZOFFSETTO:+0200
TZNAME:CEST
END:DAYLIGHT
END:VTIMEZONE
END:VCALENDAR