BEGIN:VCALENDAR
VERSION:2.0
PRODID:-//wp-events-plugin.com//7.2.3.1//EN
TZID:Europe/Berlin
X-WR-TIMEZONE:Europe/Berlin
BEGIN:VEVENT
UID:11627@literaturseiten-muenchen.de
DTSTART;TZID=Europe/Berlin:20251121T183000
DTEND;TZID=Europe/Berlin:20251121T220000
DTSTAMP:20250821T142233Z
URL:https://www.literaturseiten-muenchen.de/veranstaltungen/schon-lange-ke
 in-fruehling-2025/
SUMMARY:„Schon lange kein Frühling“ (2025)
DESCRIPTION:\n\n\n\nTermin: Freitag\, 21. November 2025\, 18.30 Uhr\n\nRef
 erentin: Alexandra Bidian (Wiesbaden)\n\nModeration: Brigitte Drodtloff 
 (München)\n\nOrt: Haus des Deutschen Ostens\, Am Lilienberg 5\, 81669 M
 ünchen\n\nIm Kooperation mit: IKGS e.V. und Gesellschaft zur Förderun
 g der Rumänischen Kultur und Tradition e.V.\n\n\n\n\n\n\n\nEin Roadmovie 
 über Erinnerung\, Schweigen und die Suche nach dem\, was Familie ausmacht
 \n\nEs ist Weihnachten\, als Alexandra Bidian ihrer Mutter einen Brief sch
 enkt – die Einladung zu einer Reise\, die zur gemeinsamen Spurensuche wi
 rd. Von Wiesbaden nach Rumänien\, auf den Spuren des verstorbenen Vaters.
  Eines Mannes\, der viel gelesen\, geschrieben und geschwiegen hat – und
  über den so vieles im Dunkeln liegt.\n\nAlexandra durchforstet alte Kist
 en\, liest Briefe\, taucht ein ins Geheimdienst-Archiv – und findet Bewe
 ise politischer Überwachung\, Hinweise auf Verstrickungen und Entscheidun
 gen\, die das Familienbild erschüttern. Sie stellt ihrer Mutter und Schwe
 ster Fragen\, die sonst oft unausgesprochen bleiben – schmerzhaft\, ehrl
 ich\, bewegend. Und bei denen jede der drei Frauen spürt\, wie sehr die e
 igene Geschichte mit der des Vaters – und seiner Zeit – verwoben ist.\
 n\n„Schon lange kein Frühling“ ist ein Roadmovie in die Familiengesch
 ichte und in die Rumäniens\, eines Landes an der östlichen Grenze der EU
 \, das eng mit unserer Gegenwart verbunden ist. Und darüber\, wie gut wir
  eigentlich die Menschen kennen\, die uns am nächsten stehen.\n\nEine Ver
 anstaltung im Rahmen der Rumänischen Kulturtage 2025\n\n\n
CATEGORIES:Weitere Veranstaltungen
LOCATION:Haus des Deutschen Ostens\, Am Lilienberg 5\, München\, 81669 \, 
 Deutschland
GEO:48.130775;11.588826
X-APPLE-STRUCTURED-LOCATION;VALUE=URI;X-ADDRESS=Am Lilienberg 5\, München\
 , 81669 \, Deutschland;X-APPLE-RADIUS=100;X-TITLE=Haus des Deutschen Osten
 s:geo:48.130775,11.588826
END:VEVENT
BEGIN:VTIMEZONE
TZID:Europe/Berlin
X-LIC-LOCATION:Europe/Berlin
BEGIN:STANDARD
DTSTART:20251026T020000
TZOFFSETFROM:+0200
TZOFFSETTO:+0100
TZNAME:CET
END:STANDARD
END:VTIMEZONE
END:VCALENDAR