BEGIN:VCALENDAR
VERSION:2.0
PRODID:-//wp-events-plugin.com//7.2.3.1//EN
TZID:Europe/Berlin
X-WR-TIMEZONE:Europe/Berlin
BEGIN:VEVENT
UID:12657@literaturseiten-muenchen.de
DTSTART;TZID=Europe/Berlin:20260418T100000
DTEND;TZID=Europe/Berlin:20260419T170000
DTSTAMP:20260304T081752Z
URL:https://www.literaturseiten-muenchen.de/veranstaltungen/schreiben-nach
 -vorbildern-2/
SUMMARY:Schreiben nach Vorbildern
DESCRIPTION:Wir betreiben „Werkspionage“: An Lieblingsbüchern schauen 
 wir uns erzählerische Techniken für unser eigenes Schreiben ab. Wie scha
 fft ein Text seinen eigenen Rhythmus? Was macht den Satzbau kunstvoll\, di
 e Figurenkonstellation einzigartig? Ziel des Kurses ist es nicht\, so zu s
 chreiben wie die „Vorbilder“\, sondern verschiedene Techniken auszupro
 bieren\, im eigenen Schreiben neue Wege zu gehen - und sich die Möglichke
 iten literarischen Schreibens bewusst zu machen.\nBitte einen Ausschnitt a
 us einem Lieblingstext von maximal einer Buchseite als Anhang im PDF-Forma
 t bis spätestens 10.4.2026 einsenden an E-Mail: vhs@carolagruber.de.\n\nK
 ursnummer: W246220\n\nDozentin: Dr. Carola Gruber\n\nGebühr: € 122\,-\n
 \nWeitere Informationen finden Sie unter: https://www.mvhs.de/kurse/kultu
 r-kunst-kreativitaet/kreatives-schreiben/schreibtechniken/schreiben-nach-v
 orbildern-460-C-W246220
CATEGORIES:Schreibwerkstatt
LOCATION:MVHS Moosach\, Baubergerstr. 6a\, München\, Bayern\, 80992\, Deut
 schland
GEO:48.180423;11.510203
X-APPLE-STRUCTURED-LOCATION;VALUE=URI;X-ADDRESS=Baubergerstr. 6a\, München
 \, Bayern\, 80992\, Deutschland;X-APPLE-RADIUS=100;X-TITLE=MVHS Moosach:ge
 o:48.180423,11.510203
END:VEVENT
BEGIN:VTIMEZONE
TZID:Europe/Berlin
X-LIC-LOCATION:Europe/Berlin
BEGIN:DAYLIGHT
DTSTART:20260329T030000
TZOFFSETFROM:+0100
TZOFFSETTO:+0200
TZNAME:CEST
END:DAYLIGHT
END:VTIMEZONE
END:VCALENDAR