BEGIN:VCALENDAR
VERSION:2.0
PRODID:-//wp-events-plugin.com//7.2.3.1//EN
TZID:Europe/Berlin
X-WR-TIMEZONE:Europe/Berlin
BEGIN:VEVENT
UID:11657@literaturseiten-muenchen.de
DTSTART;TZID=Europe/Berlin:20251017T180000
DTEND;TZID=Europe/Berlin:20251017T200000
DTSTAMP:20250828T132653Z
URL:https://www.literaturseiten-muenchen.de/veranstaltungen/schreibgruppe-
 in-der-seidlvilla-2/
SUMMARY:Schreibgruppe in der Seidlvilla
DESCRIPTION:Ab und an benötigen Schreibprojekte einen Anstoß von außen\,
  um weiterzukommen: Bei den moderierten Treffen der neuen Schreibgruppe i
 n der Seidlvilla sprechen wir über Ihre Projekte\, Sie lesen daraus vor. 
 Oder Sie bitten die Dozentin in Plot-Fragen um Rat und profitieren vom F
 eedback der Gruppe. Geeignet für Schreibende\, die bereits ein Projekt i
 n der Pipeline oder zumindest im Kopf haben.\n\nKursnummer: V248940\n\nDoz
 entin: Florentina Tautu\n\nTermine: 17.10.2025\, 21.11.2025\, 19.12.2025\,
  16.01.2026\, 06.02.2026\n\nGebühr: € 81\,-\n\nWeitere Informationen er
 halten Sie unter: https://www.mvhs.de/?\n\n&nbsp\;
CATEGORIES:Schreibwerkstatt
LOCATION:MVHS Seidlvilla\, Nikolaiplatz 1 b\, München\, Deutschland
GEO:48.15867;11.587729999999965
X-APPLE-STRUCTURED-LOCATION;VALUE=URI;X-ADDRESS=Nikolaiplatz 1 b\, München
 \, Deutschland;X-APPLE-RADIUS=100;X-TITLE=MVHS Seidlvilla:geo:48.15867,11.
 587729999999965
END:VEVENT
BEGIN:VTIMEZONE
TZID:Europe/Berlin
X-LIC-LOCATION:Europe/Berlin
BEGIN:DAYLIGHT
DTSTART:20250330T030000
TZOFFSETFROM:+0100
TZOFFSETTO:+0200
TZNAME:CEST
END:DAYLIGHT
END:VTIMEZONE
END:VCALENDAR