BEGIN:VCALENDAR
VERSION:2.0
PRODID:-//wp-events-plugin.com//7.2.3.1//EN
TZID:Europe/Berlin
X-WR-TIMEZONE:Europe/Berlin
BEGIN:VEVENT
UID:12550@literaturseiten-muenchen.de
DTSTART;TZID=Europe/Berlin:20260301T193000
DTEND;TZID=Europe/Berlin:20260301T193000
DTSTAMP:20260212T140812Z
URL:https://www.literaturseiten-muenchen.de/veranstaltungen/schwabinger-sc
 haumschlaeger-show-8/
SUMMARY:Schwabinger Schaumschläger Show
DESCRIPTION:Mit: Angela Ascher\, Björn Puscha\, Iryna Forostovets\n— Die
  Lesebühne mit Moses Wolff\, Anne Meinhardt und Christoph Theussl\n\nMose
 s Wolff\, Anne Meinhardt und Christoph Theussl erzählen Geschichten aus d
 em Leben\, wie es ist: von Liebe\, Sex und Irrsinn\, vom Schönen und vom 
 Schlimmen – zum Lachen\, zum Träumen und auch mal zum Heulen. Immer sin
 d literarische Gäste dabei\, prominente\, berühmte und solche\, die noch
  entdeckt werden müssen.\n\nEinlass: 18 Uhr\n\nTIckets: 10€/vereinsheim
 .net
CATEGORIES:Lesung
LOCATION:Vereinsheim\, Occamstr. 8\, München\, 80802\, Deutschland
GEO:48.161894;11.589819
X-APPLE-STRUCTURED-LOCATION;VALUE=URI;X-ADDRESS=Occamstr. 8\, München\, 80
 802\, Deutschland;X-APPLE-RADIUS=100;X-TITLE=Vereinsheim:geo:48.161894,11.
 589819
END:VEVENT
BEGIN:VTIMEZONE
TZID:Europe/Berlin
X-LIC-LOCATION:Europe/Berlin
BEGIN:STANDARD
DTSTART:20251026T020000
TZOFFSETFROM:+0200
TZOFFSETTO:+0100
TZNAME:CET
END:STANDARD
END:VTIMEZONE
END:VCALENDAR