BEGIN:VCALENDAR
VERSION:2.0
PRODID:-//wp-events-plugin.com//7.2.3.1//EN
TZID:Europe/Berlin
X-WR-TIMEZONE:Europe/Berlin
BEGIN:VEVENT
UID:11686@literaturseiten-muenchen.de
DTSTART;TZID=Europe/Berlin:20251027T190000
DTEND;TZID=Europe/Berlin:20251027T203000
DTSTAMP:20250903T111439Z
URL:https://www.literaturseiten-muenchen.de/veranstaltungen/schwebebahnen-
 ein-abend-mit-hanns-josef-ortheil/
SUMMARY:»Schwebebahnen« Ein Abend mit Hanns-Josef Ortheil
DESCRIPTION:Hanns-Josef Ortheil ist einer der renommiertesten Romanciers de
 s Landes\, dazu Lehrender\, intellektueller Kommentator\, brillanter Piani
 st. In seinem neuen Buch blickt er zurück auf seine Kindheit Ende der 195
 0er Jahre: Der sechsjährige Josef zieht mit den Eltern von Köln nach Wup
 pertal. Er ist ein Einzelgänger\, möchte am liebsten nur Klavier spielen
 . Den stärksten Halt aber gibt ihm das Aufschreiben von Geschichten. »Sc
 hwebebahnen« (Luchterhand) ist die Geschichte eines autistischen Jungen\,
  der seine eigenen\, von Musik getragenen Fantasiewelten entdeckt. Zugleic
 h entfaltet sich das Panorama einer vom Krieg traumatisierten Gesellschaft
 \, die langsam wieder ins Leben finden muss.\n\nTickets erhältlich unter 
 Reservix\nEINTRITT: EURO 16.- / 10.-\nSTREAM-TICKETS: EURO 8.-\n\nVeransta
 lter: Stiftung Literaturhaus\n\n
CATEGORIES:Buchpräsentation,Gespräch / Diskussion,Lesung
LOCATION:Literaturhaus München\, Salvatorplatz 1\, München\, Bayern\, 803
 33\, Deutschland
GEO:48.142051;11.574991
X-APPLE-STRUCTURED-LOCATION;VALUE=URI;X-ADDRESS=Salvatorplatz 1\, München\
 , Bayern\, 80333\, Deutschland;X-APPLE-RADIUS=100;X-TITLE=Literaturhaus M
 ünchen:geo:48.142051,11.574991
END:VEVENT
BEGIN:VTIMEZONE
TZID:Europe/Berlin
X-LIC-LOCATION:Europe/Berlin
BEGIN:STANDARD
DTSTART:20251026T020000
TZOFFSETFROM:+0200
TZOFFSETTO:+0100
TZNAME:CET
END:STANDARD
END:VTIMEZONE
END:VCALENDAR