BEGIN:VCALENDAR
VERSION:2.0
PRODID:-//wp-events-plugin.com//7.2.3.1//EN
TZID:Europe/Berlin
X-WR-TIMEZONE:Europe/Berlin
BEGIN:VEVENT
UID:11283@literaturseiten-muenchen.de
DTSTART;TZID=Europe/Berlin:20251008T180000
DTEND;TZID=Europe/Berlin:20251008T193000
DTSTAMP:20250602T135922Z
URL:https://www.literaturseiten-muenchen.de/veranstaltungen/selected-tales
 -by-edgar-allan-poe/
SUMMARY:"Selected Tales" by Edgar Allan Poe
DESCRIPTION:This month\, the Amerikahaus Literary Circle discusses Selected
  Tales by Edgar Allan Poe.\n\nThe selection of short stories that will be
  read and discussed will be announced soon. Edgar Allan Poe is a highly-re
 garded author of short stories and poems\, which are considered leading ex
 amples of "gothic horror" and “dark romanticism”.\n\nWant to read this
  month’s Literary Circle book choice and enjoy using an e-reader? You ca
 n read Selected Tales by Edgar Allan Poe for free when you join the Amer
 ikahaus eBook Club! See here for more information about the eBook Club an
 d how to sign up and access hundreds of gratis books and audiobooks!\n\nLe
 arn more about the Amerikahaus Literary Circle.\n\nFree admission\, no reg
 istration is necessary.
CATEGORIES:Lesekreis
LOCATION:Amerikahaus\, Karolinenplatz 3\, München\, 80333\, Deutschland
GEO:48.144416;11.568125
X-APPLE-STRUCTURED-LOCATION;VALUE=URI;X-ADDRESS=Karolinenplatz 3\, München
 \, 80333\, Deutschland;X-APPLE-RADIUS=100;X-TITLE=Amerikahaus:geo:48.14441
 6,11.568125
END:VEVENT
BEGIN:VTIMEZONE
TZID:Europe/Berlin
X-LIC-LOCATION:Europe/Berlin
BEGIN:DAYLIGHT
DTSTART:20250330T030000
TZOFFSETFROM:+0100
TZOFFSETTO:+0200
TZNAME:CEST
END:DAYLIGHT
END:VTIMEZONE
END:VCALENDAR