BEGIN:VCALENDAR
VERSION:2.0
PRODID:-//wp-events-plugin.com//7.2.3.1//EN
TZID:Europe/Berlin
X-WR-TIMEZONE:Europe/Berlin
BEGIN:VEVENT
UID:12945@literaturseiten-muenchen.de
DTSTART;TZID=Europe/Berlin:20260509T200000
DTEND;TZID=Europe/Berlin:20260509T200000
DTSTAMP:20260415T160541Z
URL:https://www.literaturseiten-muenchen.de/veranstaltungen/sidekick-mit-s
 ebastian-el-hotzo-hotz/
SUMMARY:Sidekick mit Sebastian „El Hotzo“ Hotz
DESCRIPTION:Show &amp\; Lesung\n\nDer in Franken aufgewachsene Sebastian Ho
 tz (*1996) absolvierte ein duales Studium in Wirtschaftswissenschaften in 
 Erlangen/Nürnberg\, bevor ihn die Windungen des Internets erst nach Biele
 feld und schließlich nach Berlin führten. Seine gesellschaftskritischen 
 und treffsicheren Postings auf Instagram und Twitter werden täglich von 1
 \,5 Millionen Menschen gelesen. Sein Debütroman „Mindset“ war ein Bes
 tseller. Im April 2026 erscheint sein neuer Roman „Sidekick“ (Kiepenhe
 uer &amp\; Witsch).\n\n„Sidekick“ ist ein gekonntes Spiel mit »kultig
 en« TV-Figuren und den Kulturkämpfen unserer Gegenwart – eine Mediensa
 tire als Roadmovie\, in der Ähnlichkeiten mit realen Personen selbstverst
 ändlich rein zufällig sind.\n\nTickets: loveyourartist.com\, 22-44€
CATEGORIES:Lesung
LOCATION:Werk7 Theater\, Speicherstr. 22\, München\, 81671\, Deutschland
GEO:48.123959;11.606232
X-APPLE-STRUCTURED-LOCATION;VALUE=URI;X-ADDRESS=Speicherstr. 22\, München\
 , 81671\, Deutschland;X-APPLE-RADIUS=100;X-TITLE=Werk7 Theater:geo:48.1239
 59,11.606232
END:VEVENT
BEGIN:VTIMEZONE
TZID:Europe/Berlin
X-LIC-LOCATION:Europe/Berlin
BEGIN:DAYLIGHT
DTSTART:20260329T030000
TZOFFSETFROM:+0100
TZOFFSETTO:+0200
TZNAME:CEST
END:DAYLIGHT
END:VTIMEZONE
END:VCALENDAR