BEGIN:VCALENDAR
VERSION:2.0
PRODID:-//wp-events-plugin.com//7.2.3.1//EN
TZID:Europe/Berlin
X-WR-TIMEZONE:Europe/Berlin
BEGIN:VEVENT
UID:12318@literaturseiten-muenchen.de
DTSTART;TZID=Europe/Berlin:20260115T190000
DTEND;TZID=Europe/Berlin:20260115T203000
DTSTAMP:20260107T102641Z
URL:https://www.literaturseiten-muenchen.de/veranstaltungen/smartphone-aus
 -leben-an/
SUMMARY:"Smartphone aus-Leben an"
DESCRIPTION:»Smartphone aus – Leben an«\n\nvon und mit dem Autor Jacob 
 Weizman\n\nModeration: Günter Keil \n\n95% der unter 60jährigen in Deuts
 chland haben ein Smartphone. Rund vier Stunden täglich ist man damit besc
 häftigt\; Jugendliche sogar bis zu sieben Stunden. Was bedeutet das? Daue
 rstress und Reizüberflutung sind ständige Begleiter geworden. Man ist st
 ets erreichbar\, aber immer weniger wirklich da.\n\n»Wie geht es uns wirk
 lich mit unserem Handy und wie können wir der Sucht und dem Automatismus 
 selbstbestimmt entgegentreten?« - Diese und weitere Fragen stellt Autor J
 acob Weizman\, 1989 in München geboren\, heute in Berlin ansässig).\n\nE
 intritt frei. Spenden willkommen.\n\nAnmeldung erbeten unter: karten@ikg-m
 .de oder (089) 202 400 491\n\nVeranstalter: Kulturzentrum der IKG München
  &amp\; Obb. und Nash (Coffee\, Eatery &amp\; Culture)\n\n&nbsp\;\n\n&nbsp
 \;
CATEGORIES:Buchpräsentation,Gespräch / Diskussion,Lesung
LOCATION:"Nash" im Stadtmuseum\, St.Jakobsplatz 1\, München\, 80331\, Deut
 schland
GEO:48.135464;11.573666
X-APPLE-STRUCTURED-LOCATION;VALUE=URI;X-ADDRESS=St.Jakobsplatz 1\, München
 \, 80331\, Deutschland;X-APPLE-RADIUS=100;X-TITLE=\"Nash\" im Stadtmuseum:
 geo:48.135464,11.573666
END:VEVENT
BEGIN:VTIMEZONE
TZID:Europe/Berlin
X-LIC-LOCATION:Europe/Berlin
BEGIN:STANDARD
DTSTART:20251026T020000
TZOFFSETFROM:+0200
TZOFFSETTO:+0100
TZNAME:CET
END:STANDARD
END:VTIMEZONE
END:VCALENDAR