BEGIN:VCALENDAR
VERSION:2.0
PRODID:-//wp-events-plugin.com//7.2.3.1//EN
TZID:Europe/Berlin
X-WR-TIMEZONE:Europe/Berlin
BEGIN:VEVENT
UID:12698@literaturseiten-muenchen.de
DTSTART;TZID=Europe/Berlin:20260319T173000
DTEND;TZID=Europe/Berlin:20260319T190000
DTSTAMP:20260309T134612Z
URL:https://www.literaturseiten-muenchen.de/veranstaltungen/sneakpeak-arch
 ivalienschau/
SUMMARY:­SneakPeak Archivalienschau
DESCRIPTION:Sie wollen Einblicke in Bestände des Literaturarchivs der Mona
 censia gewinnen? Dann kommen Sie zur „SneakPeak-Archivalienschau“! In 
 jeder Ausgabe widmen sich die Archivare der Monacensia einem neuen Schwerp
 unkt und stellen Ihnen ungewöhnliche Fundstücke vor. In der ersten Sneak
 Peak spricht Archivar Matthäus Feigk über „Schriftsteller*innen zwisch
 en Fernweh und Exil“.\n\nEintritt frei / Anmeldung unter: monacensia.pro
 gramm@muenchen.de
CATEGORIES:Ausstellungen,Gespräch / Diskussion,Weitere Veranstaltungen
LOCATION:Monacensia\, Stadtbücherei\, Maria-Theresia-Straße 23\, München
 \, Deutschland\, 81675\, Deutschland
GEO:48.1436397;11.598950100000025
X-APPLE-STRUCTURED-LOCATION;VALUE=URI;X-ADDRESS=Maria-Theresia-Straße 23\,
  München\, Deutschland\, 81675\, Deutschland;X-APPLE-RADIUS=100;X-TITLE=M
 onacensia\, Stadtbücherei:geo:48.1436397,11.598950100000025
END:VEVENT
BEGIN:VTIMEZONE
TZID:Europe/Berlin
X-LIC-LOCATION:Europe/Berlin
BEGIN:STANDARD
DTSTART:20251026T020000
TZOFFSETFROM:+0200
TZOFFSETTO:+0100
TZNAME:CET
END:STANDARD
END:VTIMEZONE
END:VCALENDAR