BEGIN:VCALENDAR
VERSION:2.0
PRODID:-//wp-events-plugin.com//7.2.3.1//EN
TZID:Europe/Berlin
X-WR-TIMEZONE:Europe/Berlin
BEGIN:VEVENT
UID:12933@literaturseiten-muenchen.de
DTSTART;TZID=Europe/Berlin:20260510T200000
DTEND;TZID=Europe/Berlin:20260510T213000
DTSTAMP:20260415T153902Z
URL:https://www.literaturseiten-muenchen.de/veranstaltungen/sombrero-vom-h
 immel-von-richard-brautigan/
SUMMARY:SOMBRERO VOM HIMMEL von Richard Brautigan - musikalische Lesung mit
  Sophie Wendt und Severin Rauch
DESCRIPTION:Sophie Wendt und Severin Rauch bringen den rasanten Roman von R
 ichard Brautigan als musikalische Lesung auf die Bühne.
CATEGORIES:Lesung,Literatur &amp; Musik
LOCATION:TamS Theater\, Haimhauserstrasse 13a\, München\, 80802\, Bayern\,
  Deutschland
GEO:48.1623242;11.590158100000053
X-APPLE-STRUCTURED-LOCATION;VALUE=URI;X-ADDRESS=Haimhauserstrasse 13a\, Mü
 nchen\, 80802\, Bayern\, Deutschland;X-APPLE-RADIUS=100;X-TITLE=TamS Theat
 er:geo:48.1623242,11.590158100000053
END:VEVENT
BEGIN:VTIMEZONE
TZID:Europe/Berlin
X-LIC-LOCATION:Europe/Berlin
BEGIN:DAYLIGHT
DTSTART:20260329T030000
TZOFFSETFROM:+0100
TZOFFSETTO:+0200
TZNAME:CEST
END:DAYLIGHT
END:VTIMEZONE
END:VCALENDAR