BEGIN:VCALENDAR
VERSION:2.0
PRODID:-//wp-events-plugin.com//7.2.3.1//EN
TZID:Europe/Berlin
X-WR-TIMEZONE:Europe/Berlin
BEGIN:VEVENT
UID:12934@literaturseiten-muenchen.de
DTSTART;TZID=Europe/Berlin:20260517T200000
DTEND;TZID=Europe/Berlin:20260517T213000
DTSTAMP:20260415T153926Z
URL:https://www.literaturseiten-muenchen.de/veranstaltungen/spiegeleier-un
 d-konfetti-ein-abend-mit-taeksten-und-musik-mit-verena-richter-und-severin
 -rauch/
SUMMARY:SPIEGELEIER UND KONFETTI - Ein Abend mit Täksten und Musik mit Ver
 ena Richter und Severin Rauch
DESCRIPTION:Verena Richter schreibt Gedichte\, die wirken\, als hätten die
  Wörter heimlich beschlossen\, Unfug zu machen – und dabei erstaunlich 
 klug zu sein. In ihren Texten reden Alltagsgegenstände\, Gedanken stolper
 n über sich selbst\, Logik wird freundlich zur Seite geschoben und der ei
 ne oder andere Satz biegt falsch ab\, nur um woanders wieder aufzutauchen.
CATEGORIES:Lesung,Literatur &amp; Musik
LOCATION:TamS Theater\, Haimhauserstrasse 13a\, München\, 80802\, Bayern\,
  Deutschland
GEO:48.1623242;11.590158100000053
X-APPLE-STRUCTURED-LOCATION;VALUE=URI;X-ADDRESS=Haimhauserstrasse 13a\, Mü
 nchen\, 80802\, Bayern\, Deutschland;X-APPLE-RADIUS=100;X-TITLE=TamS Theat
 er:geo:48.1623242,11.590158100000053
END:VEVENT
BEGIN:VTIMEZONE
TZID:Europe/Berlin
X-LIC-LOCATION:Europe/Berlin
BEGIN:DAYLIGHT
DTSTART:20260329T030000
TZOFFSETFROM:+0100
TZOFFSETTO:+0200
TZNAME:CEST
END:DAYLIGHT
END:VTIMEZONE
END:VCALENDAR