BEGIN:VCALENDAR
VERSION:2.0
PRODID:-//wp-events-plugin.com//7.2.3.1//EN
TZID:Europe/Berlin
X-WR-TIMEZONE:Europe/Berlin
BEGIN:VEVENT
UID:12038@literaturseiten-muenchen.de
DTSTART;TZID=Europe/Berlin:20251204T160000
DTEND;TZID=Europe/Berlin:20251204T160000
DTSTAMP:20251029T100016Z
URL:https://www.literaturseiten-muenchen.de/veranstaltungen/sprechende-hae
 nde-vorlesen-in-deutscher-gebaerdensprache/
SUMMARY:Sprechende Hände: Vorlesen in Deutscher Gebärdensprache
DESCRIPTION:Eintritt frei\nVeranstaltungsort: Kindertribüne\, 2. Obergesch
 oss\nHier könnt ihr erleben\, wie Vorlesen ohne gesprochene Worte in Geb
 ärdensprache funktioniert. Macht mit und erfahrt\, wie bunt und faszinier
 end Sprache sein kann! Die Veranstaltung richtet sich an Kinder mit oder o
 hne Hörbehinderung und vermittelt spielerisch Grundlagen der Deutschen Ge
 bärdensprache.\n\nInformationen zur Anmeldung\n\n\nOhne Anmeldung\n\n\n\n
 \nKooperationspartner\n\n\nDer Gehörlosenverband München und Umland e.V.
  (GMU) \n\n\n
CATEGORIES:Lesung
LOCATION:Münchner Stadtbibliothek im HP8\, Hans-Preißinger-Straße 8\, M
 ünchen\, Deutschland
GEO:48.111734;11.553315
X-APPLE-STRUCTURED-LOCATION;VALUE=URI;X-ADDRESS=Hans-Preißinger-Straße 8\
 , München\, Deutschland;X-APPLE-RADIUS=100;X-TITLE=Münchner Stadtbibliot
 hek im HP8:geo:48.111734,11.553315
END:VEVENT
BEGIN:VTIMEZONE
TZID:Europe/Berlin
X-LIC-LOCATION:Europe/Berlin
BEGIN:STANDARD
DTSTART:20251026T020000
TZOFFSETFROM:+0200
TZOFFSETTO:+0100
TZNAME:CET
END:STANDARD
END:VTIMEZONE
END:VCALENDAR