BEGIN:VCALENDAR
VERSION:2.0
PRODID:-//wp-events-plugin.com//7.2.3.1//EN
TZID:Europe/Berlin
X-WR-TIMEZONE:Europe/Berlin
BEGIN:VEVENT
UID:12139@literaturseiten-muenchen.de
DTSTART;TZID=Europe/Berlin:20251208T195600
DTEND;TZID=Europe/Berlin:20251208T195600
DTSTAMP:20251116T211018Z
URL:https://www.literaturseiten-muenchen.de/veranstaltungen/spree-vom-weiz
 en-lesebuehne-aus-berlin-zu-gast-in-schwabing/
SUMMARY:Spree vom Weizen – Lesebühne aus Berlin zu Gast in Schwabing
DESCRIPTION:mit Julian Heun\, Wolf Hogekamp\, Ken Yamamoto aus der Reihe Le
 sebühnen zu Gast\n\nZusatzveranstaltung mit der Lesebühne „Spree vom W
 eizen“ aus Berlin-Kreuzberg. \n\nSeit 2011 ist das wilde Quintett aus Po
 etry Slammer*innen und Spoken Word Satirikern zugange und präsentiert sei
 ne stets ausverkauften Shows im Berliner Technoclub Modus (ehemals Ritter 
 Butzke).\n\nJahrelange Mitglieder wie Till Reiners oder Felix Lobrecht fü
 llen mittlerweile Stadien und auch Frank Klötgen vom Ensemble der Münchn
 er Lach- &amp\; Schießgesellschaft war Gründungsmitglied von „Spree vo
 m Weizen“.\n\nDie Truppe kommt mit den drei Gründungsmitgliedern Ken Ya
 mamoto\, Julian Heun (deutscher Poetry Slam Champion 2007\, 2013 und 2019)
  sowie Wolf Hogekamp\, der einst den Poetry Slam nach Deutschland holte un
 d nun als „Der Schneekönig“ seine Texte zu wummernden Beats inszenier
 t\, nach Schwabing. Eine ganz besondere Mischung aus Spoken Word\, Stand U
 p Comedy und Technolyrik.\n\nTickets: Eventim\, 21\,42€
CATEGORIES:Lesung
LOCATION:Milla Café in der Fat Cat im Gasteig\, Kellerstr. 8\, München\, 
 Bayern\, 81667\, Deutschland
GEO:48.131431;11.592471
X-APPLE-STRUCTURED-LOCATION;VALUE=URI;X-ADDRESS=Kellerstr. 8\, München\, B
 ayern\, 81667\, Deutschland;X-APPLE-RADIUS=100;X-TITLE=Milla Café in der 
 Fat Cat im Gasteig:geo:48.131431,11.592471
END:VEVENT
BEGIN:VTIMEZONE
TZID:Europe/Berlin
X-LIC-LOCATION:Europe/Berlin
BEGIN:STANDARD
DTSTART:20251026T020000
TZOFFSETFROM:+0200
TZOFFSETTO:+0100
TZNAME:CET
END:STANDARD
END:VTIMEZONE
END:VCALENDAR