BEGIN:VCALENDAR
VERSION:2.0
PRODID:-//wp-events-plugin.com//7.2.3.1//EN
TZID:Europe/Berlin
X-WR-TIMEZONE:Europe/Berlin
BEGIN:VEVENT
UID:11779@literaturseiten-muenchen.de
DTSTART;TZID=Europe/Berlin:20251012T170000
DTEND;TZID=Europe/Berlin:20251012T183000
DTSTAMP:20250914T140156Z
URL:https://www.literaturseiten-muenchen.de/veranstaltungen/sputnik-lesung
 -und-gespraech-mit-christian-berkel/
SUMMARY:"Sputnik" Lesung und Gespräch mit Christian Berkel
DESCRIPTION:Moderation: Günter Keil\n\nAm 4. Oktober 1957 erreichen die er
 sten Satelliten die Erdumlaufbahn. Kurz darauf erblickt in Westberlin Sput
 nik das Licht der Welt. Er wächst auf zwischen den Geschichten seiner Mut
 ter Sala und den Büchern seines Vaters Otto. Eine wichtige Lebensstation 
 wird Paris\, wo er nicht nur zur Schule geht\, sondern Theater und Variet
 é für sich entdeckt. Die Rückkehr nach Deutschland fällt in eine Umbru
 chszeit der Theaterwelt der 70er Jahre. Eine wilde Phase des Experimentier
 ens bricht an\, bis Sputnik wie so viele vom Mauerfall 1989 überrollt wir
 d. Und zu ahnen beginnt\, wer er ist\, oder zumindest\, wer er sein könnt
 e. In seinem dritten Roman begibt sich Christian Berkel erneut auf eine se
 hr persönliche Spurensuche\, die bis in eine erschreckend veränderte Geg
 enwart führt.\n\nChristian Berkel\, am 28.10.1957 in West-Berlin geboren\
 , ist einer der bekanntesten deutschen Schauspieler.\n\nEintritt 10\,- Eur
 o\n\nAnmeldung erforderlich unter karten@ikg-m.de  bzw. (089) 20 24 00-49
 1\n\nVeranstalter: Kulturzentrum der Israelitischen Kultusgemeinde Münche
 n &amp\; Obb. und Stiftung Literaturhaus\n\n&nbsp\;\n\n&nbsp\;\n\n&nbsp\;
CATEGORIES:Buchpräsentation,Gespräch / Diskussion,Lesung
LOCATION:Jüdisches Gemeindezentrum\, St.-Jakobs-Platz 18\, München\, Baye
 rn\, 80331 \, Deutschland
GEO:48.13468;11.57159999999999
X-APPLE-STRUCTURED-LOCATION;VALUE=URI;X-ADDRESS=St.-Jakobs-Platz 18\, Münc
 hen\, Bayern\, 80331 \, Deutschland;X-APPLE-RADIUS=100;X-TITLE=Jüdisches 
 Gemeindezentrum:geo:48.13468,11.57159999999999
END:VEVENT
BEGIN:VTIMEZONE
TZID:Europe/Berlin
X-LIC-LOCATION:Europe/Berlin
BEGIN:DAYLIGHT
DTSTART:20250330T030000
TZOFFSETFROM:+0100
TZOFFSETTO:+0200
TZNAME:CEST
END:DAYLIGHT
END:VTIMEZONE
END:VCALENDAR