BEGIN:VCALENDAR
VERSION:2.0
PRODID:-//wp-events-plugin.com//7.2.3.1//EN
TZID:Europe/Berlin
X-WR-TIMEZONE:Europe/Berlin
BEGIN:VEVENT
UID:12604@literaturseiten-muenchen.de
DTSTART;TZID=Europe/Berlin:20260415T100000
DTEND;TZID=Europe/Berlin:20260416T190000
DTSTAMP:20260225T083348Z
URL:https://www.literaturseiten-muenchen.de/veranstaltungen/stabiliebling-
 bairische-landtafeln-von-philipp-apian/
SUMMARY:StabiLiebling: Bairische Landtafeln von Philipp Apian
DESCRIPTION:StabiLiebling: Ein Spitzenstück. Zwei Tage. Ganz nah.\nPHILIPP
  APIAN: BAIRISCHE LANDTAFELN\nEine Ikone der altbayerischen Kartographie\n
 \nDie Bayerische Staatsbibliothek öffnet ihre Tresore und präsentiert je
 den Monat an zwei Tagen ein Spitzenstück aus ihren Sammlungen.\n\nPräsen
 tiert wird am 15. und 16. April ein besonders schön und aufwändig kolori
 ertes Exemplar der Bairischen Landtafeln von Philipp Apian. Grundlage für
  die 24 kleinformatigen Karten von Bayern war die imposante so genannte 
 „Große Karte“. Gedruckt 1568 in Ingolstadt\, stellen die Landtafeln d
 ie kraftvollen Wurzeln der altbayerischen Kartographie bis Ende des 18. Jh
 . dar. BSB-Signatur: Hbks/F 15 b\n\nEintritt frei.\nKostenlose Einführung
 en an beiden Tagen jeweils um 11\, 13 und 17 Uhr (ohne Anmeldung)\n\nBayer
 ische Staatsbibliothek\, Schatzkammer\nLudwigstr. 16\, 80539 München\nver
 anstaltungen@bsb-muenchen.de\n089 28638-2115\nbsb-muenchen.de/stabilieblin
 g\n\n&nbsp\;
CATEGORIES:Ausstellungen
LOCATION:Bayerische Staatsbibliothek\, Ludwigstr. 16\, München\, 80539\, D
 eutschland
GEO:48.1468613;11.58026940000002
X-APPLE-STRUCTURED-LOCATION;VALUE=URI;X-ADDRESS=Ludwigstr. 16\, München\, 
 80539\, Deutschland;X-APPLE-RADIUS=100;X-TITLE=Bayerische Staatsbibliothek
 :geo:48.1468613,11.58026940000002
END:VEVENT
BEGIN:VTIMEZONE
TZID:Europe/Berlin
X-LIC-LOCATION:Europe/Berlin
BEGIN:DAYLIGHT
DTSTART:20260329T030000
TZOFFSETFROM:+0100
TZOFFSETTO:+0200
TZNAME:CEST
END:DAYLIGHT
END:VTIMEZONE
END:VCALENDAR