BEGIN:VCALENDAR
VERSION:2.0
PRODID:-//wp-events-plugin.com//7.2.3.1//EN
TZID:Europe/Berlin
X-WR-TIMEZONE:Europe/Berlin
BEGIN:VEVENT
UID:12605@literaturseiten-muenchen.de
DTSTART;TZID=Europe/Berlin:20260520T100000
DTEND;TZID=Europe/Berlin:20260521T190000
DTSTAMP:20260225T083258Z
URL:https://www.literaturseiten-muenchen.de/veranstaltungen/stabiliebling-
 busspsalmencodex-albrechts-v-mielich-codex/
SUMMARY:StabiLiebling: Bußpsalmencodex Albrechts V. ( Mielich-Codex)
DESCRIPTION:StabiLiebling: Ein Spitzenstück. Zwei Tage. Ganz nah.\nBUSSPSA
 LMENCODEX ALBRECHTS V.\nDie wohl schönste Musikhandschrift der Welt\n\nDi
 e Bayerische Staatsbibliothek öffnet ihre Tresore und präsentiert jeden 
 Monat an zwei Tagen ein Spitzenstück aus ihren Sammlungen.\n\nDie wohl sc
 hönste Musikhandschrift der Welt\, die sieben Bußpsalmen mit der Motette
  Laudes Domini des Münchner Hofkapellmeisters und Komponisten Orlando di 
 Lasso\, ist am 20. und 21. Mai zu sehen. Berühmt ist das Chorbuch\, entst
 anden 1565 in München\, wegen seiner spektakulären Buchmalereien von Han
 s Mielich. Aufgeschlagen sind zwei Seiten aus dem vierten Bußpsalm. BSB-S
 ignatur: Mus.ms. A\n\nEintritt frei.\nKostenlose Einführungen an beiden T
 agen jeweils um 11\, 13 und 17 Uhr (ohne Anmeldung)\n\nBayerische Staatsbi
 bliothek\, Schatzkammer\nLudwigstr. 16\, 80539 München\nveranstaltungen@b
 sb-muenchen.de\n089 28638-2115\nbsb-muenchen.de/stabiliebling
CATEGORIES:Ausstellungen
LOCATION:Bayerische Staatsbibliothek\, Ludwigstr. 16\, München\, 80539\, D
 eutschland
GEO:48.1468613;11.58026940000002
X-APPLE-STRUCTURED-LOCATION;VALUE=URI;X-ADDRESS=Ludwigstr. 16\, München\, 
 80539\, Deutschland;X-APPLE-RADIUS=100;X-TITLE=Bayerische Staatsbibliothek
 :geo:48.1468613,11.58026940000002
END:VEVENT
BEGIN:VTIMEZONE
TZID:Europe/Berlin
X-LIC-LOCATION:Europe/Berlin
BEGIN:DAYLIGHT
DTSTART:20260329T030000
TZOFFSETFROM:+0100
TZOFFSETTO:+0200
TZNAME:CEST
END:DAYLIGHT
END:VTIMEZONE
END:VCALENDAR