BEGIN:VCALENDAR
VERSION:2.0
PRODID:-//wp-events-plugin.com//7.2.3.1//EN
TZID:Europe/Berlin
X-WR-TIMEZONE:Europe/Berlin
BEGIN:VEVENT
UID:11965@literaturseiten-muenchen.de
DTSTART;TZID=Europe/Berlin:20251125T200000
DTEND;TZID=Europe/Berlin:20251125T215000
DTSTAMP:20251017T074609Z
URL:https://www.literaturseiten-muenchen.de/veranstaltungen/stefan-juergen
 s-liest-bram-stokers-dracula/
SUMMARY:Stefan Jürgens liest Bram Stokers Dracula
DESCRIPTION:Bram Stokers „Dracula“ gilt als einer der einflussreichsten
  Romane der Horrorliteratur und hat Generationen von Lesern in seinen Bann
  gezogen. Die düstere und mysteriöse Erzählung entfaltet sich in einem 
 einzigartigen stilistischen Mix aus Briefen\, Tagebüchern und Berichten\,
  der den Leser auf eine aufregende Reise in die Welt des Übernatürlichen
  mitnimmt. Was könnte spannender sein\, als diese vielseitige Geschichte 
 durch die lebendige Darbietung eines versierten Künstlers wie Stefan Jür
 gens zum Leben zu erwecken?\n\nStefan Jürgens absolvierte von 1983 bis 86
  an der Westfälischen Schauspielschule in Bochum eine dreieinhaljährige 
 Ausbildung zum Darsteller. Danach folgten Engagements u. a. am Schauspielh
 aus Bochum dem Theater Dortmund am Theater des Westens in Berlin im Bremer
  Theater am Goetheplatz und am Schauspiel Köln bis er 1993 mit der legend
 ären Comedy Show RTL Samstag Nacht landesweite Bekanntheit erreichte. Die
  Fernsehshow wurde von 1993 bis 1998 ausgestrahlt und gilt bis heute als d
 ie erfolgreichste deutsche Comedyshow. Danach verkörperte er in sechs Fol
 gen den Berliner Tatort­Kommissar Robert Hellmann und wirkte in zahlreich
 en nationalen und internationalen TV und Kinoproduktionen mit bevor er von
  2007 bis 2021 in der deutsch-österreichischen Produktion Soko Wien/Donau
  die Hauptrolle des Carl Ribarski übernahm. Seit 2002 veröffentlichte er
  bislang sechs Studioalben. Mit seinem neuen Konzertprogramm \,LIEBE!“ i
 st er in Deutschland und Österreich auf Tournee. Für seine Leistungen er
 hielt der Darsteller und Musiker renomierte Auszeichnungen. Dazu zählen d
 er Bayerische Fernsehpreis der Bambi der Goldene Löwe und die österreich
 ische Romy. Für seine Darstellung des General Harras in Carl Zuckmayers \
 ,\,des Teufels General“ erhielt er 2022 den österreichischen Nestroy Th
 eaterpreis. Derzeit steht er außerdem in Berlin als TARTUFFE am Renaissan
 cetheater auf der Bühne
CATEGORIES:Lesung
LOCATION:Pasinger Fabrik\, August-Exter-Str. 1\, München\, 81245\, Deutsch
 land
GEO:48.15098;11.461430000000064
X-APPLE-STRUCTURED-LOCATION;VALUE=URI;X-ADDRESS=August-Exter-Str. 1\, Münc
 hen\, 81245\, Deutschland;X-APPLE-RADIUS=100;X-TITLE=Pasinger Fabrik:geo:4
 8.15098,11.461430000000064
END:VEVENT
BEGIN:VTIMEZONE
TZID:Europe/Berlin
X-LIC-LOCATION:Europe/Berlin
BEGIN:STANDARD
DTSTART:20251026T020000
TZOFFSETFROM:+0200
TZOFFSETTO:+0100
TZNAME:CET
END:STANDARD
END:VTIMEZONE
END:VCALENDAR