BEGIN:VCALENDAR
VERSION:2.0
PRODID:-//wp-events-plugin.com//7.2.3.1//EN
TZID:Europe/Berlin
X-WR-TIMEZONE:Europe/Berlin
BEGIN:VEVENT
UID:11669@literaturseiten-muenchen.de
DTSTART;TZID=Europe/Berlin;VALUE=DATE:20251027
DTEND;TZID=Europe/Berlin;VALUE=DATE:20251109
DTSTAMP:20250901T113806Z
URL:https://www.literaturseiten-muenchen.de/veranstaltungen/stefani-straka
 -anne-funck-schreibraum-im-ruffinihaus/
SUMMARY:Stefani Straka & Anne Funck: SCHREIBRAUM im Ruffinihaus
DESCRIPTION:Stefani Straka und Anne Funck sind beide seit vielen Jahren als
  Autorinnen tätig. Ihre Erfahrungen wollen sie weitergeben. Zwei Wochen l
 ang testen sie im Ruffinihaus das Konzept einer offenen Schreibstube. Tä
 glich bieten sie drei jeweils dreistündige Zeitfenster an\, in denen jede
  und jeder willkommen ist\, der einen Raum für seine Gedanken sucht. Eine
  Anmeldung ist nicht notwendig. \nStefani Straka und Anne Funck sind gespa
 nnt auf jeden und jede: Tourist*innen mit Reflexionsbedarf\, Schnäppchenj
 äger\, die eine Pause brauchen\, Schüler\, Studenten\, Senioren\, Anf
 änger\, routinierte Schreiber. Die exponierte Lage des Ruffinihauses i
 st ideal als Anlaufstelle für ein breites Publikum\, für die Münch
 ner und alle\, die ihre Welten und Gedanken miteinander teilen wollen. "W
 er zu uns kommt\, findet Stühle und einen Tisch\, Papier und Stifte\, 
 ein Glas Wasser. Niemand muss sich vorbereiten\, es ist nicht nötig\, e
 twas mitzubringen. Es wird einen festen Ablauf der Kurse geben\, ein immer
  gleiches Prinzip\, mit Variationen für die\, die gerne mehrmals komme
 n: Wir bieten einen Schreibimpuls an. Das kann ein Satz sein\, ein Bild\, 
 ein Gegenstand\, die lebendige Stadt rund ums Ruffinihaus\, Geräusche
 \, Gerüche\, Menschen oder Situationen. Mindestens genauso wie das Erge
 bnis interessiert uns der Weg dahin." Wie gelingt es\, sich vom Alltag\, v
 on Stress\, Angst\, dem ewigen Bewertungszwang\, von Ehrgeiz\, Übereife
 r und Konkurrenzdenken zu lösen? Nur ein gut reguliertes Nervensystem se
 tzt Kreativität frei. Dabei helfen einfache Körperübungen. Sie lock
 ern und lassen ein Gruppengefühl entstehen. "Wichtig ist uns der ansc
 hließende Austausch. In einer Atmosphäre des Wohlwollens wächst der
  Mut\, die Lust\, den nächsten Schritt zu tun: Weiterzuschreiben."\nS
 tefani Straka wurde 1968 in Baden-Württemberg geboren und studierte in M
 ünchen Theaterwissenschaft\, Anglistik und Soziologie. Zusammen mit ihren
  Mitstreitern beim Studententheater MÜST erhielt sie den Bayerischen Stud
 ententheaterpreis. Bei einem Auslandsjahr in England kam sie mit der dorti
 gen Impro-Theater-Szene in Kontakt und unterrichtete nach ihrer Rückkehr 
 das Improvisieren an der Münchner VHS. Es folgten Theaterregie-Assistenze
 n bei Oliver Reese und Beat Fäh\, bevor sie sich dem Fernsehen verschrieb
 \, als Lektorin bei der Kirch-Gruppe\, dann als Dramaturgin bei der Monaco
 -Film. Seit 2000 schreibt sie als freie Autorin Drehbücher für das deuts
 che Fernsehen (Filmografie siehe ihre Agentur https://freex.de).\n1972 ge
 boren in München\, studierte Anne Funck nach ihrer Ausbildung zur Reise
 verkehrskauffrau bei Studiosus Reisen an der Ludwig-Maximilians-Universit
 ät Kunstgeschichte\, Klassische Archäologie und Kirchengeschichte. Sie i
 st seit vielen Jahren freischaffend tätig als Gästeführerin der Land
 eshauptstadt München\, Museumspädagogin\, Lektorin und Bildredakteurin
  von Kunst- und Bildbänden sowie als Autorin von Kinderkunstbüchern u
 nd -mitmachheften für Museumsausstellungen. Flanieren und schauen sind f
 ür sie unerschöpfliche Quellen der Inspiration.\nBei Rückfragen steht I
 hnen Stefani Straka gern zur Verfügung: stefani.straka@gmx.net\nMontag\, 
 27.10. bis Samstag\, 8.11.2025\ntäglich 10-13 Uhr | 14-17 Uhr | 18-21 Uhr
  | Teilnahmegebühr: 20 € pro Schreibeinheit
CATEGORIES:Schreibwerkstatt
LOCATION:Ruffinihaus am Rindermarkt\, Sendlinger Str. 1\, München\, 80331\
 , Deutschland
GEO:48.13566;11.573468
X-APPLE-STRUCTURED-LOCATION;VALUE=URI;X-ADDRESS=Sendlinger Str. 1\, Münche
 n\, 80331\, Deutschland;X-APPLE-RADIUS=100;X-TITLE=Ruffinihaus am Rinderma
 rkt:geo:48.13566,11.573468
END:VEVENT
BEGIN:VTIMEZONE
TZID:Europe/Berlin
X-LIC-LOCATION:Europe/Berlin
BEGIN:STANDARD
DTSTART:20251026T020000
TZOFFSETFROM:+0200
TZOFFSETTO:+0100
TZNAME:CET
END:STANDARD
END:VTIMEZONE
END:VCALENDAR