BEGIN:VCALENDAR
VERSION:2.0
PRODID:-//wp-events-plugin.com//7.2.3.1//EN
TZID:Europe/Berlin
X-WR-TIMEZONE:Europe/Berlin
BEGIN:VEVENT
UID:12062@literaturseiten-muenchen.de
DTSTART;TZID=Europe/Berlin:20251205T190000
DTEND;TZID=Europe/Berlin:20251205T203000
DTSTAMP:20251104T165358Z
URL:https://www.literaturseiten-muenchen.de/veranstaltungen/stories-2-lesu
 ng-mit-joy-williams/
SUMMARY:»Stories 2« Lesung mit Joy Williams
DESCRIPTION:\n\nLesung mit Joy Williams\n\n\n\n\nModeration: Paul Ingendaay
  (FAZ)\nLesung: Ulrike Kriener\n\nSie ist die Großmeisterin der US-amerik
 anischen Short Story\, genießt Kult-Status\, wird gefeiert von Jonathan F
 ranzen\, Lauren Groff und Don DeLillo: Joy Williams (*1944). 2023 erschien
  – endlich! – ihr Erzählungsband »Stories« in deutscher Übersetzun
 g\, nun folgt der zweite Band mit 13 neuen und klassischen Texten (dtv // 
 dt. von Julia Wolf). Mit »obszöner Grandezza« (Süddeutsche Zeitung) er
 zählt Joy Williams von seltsamen Kindern\, von Menschen\, die quer in der
  Welt stehen\, von den Einsamen und Übersehenen. Zwischen zerplatzten Tr
 äumen flackert immer wieder auch Komik auf und so führen uns die Geschic
 hten Satz für Satz ins Unvorhersehbare hinein. »Höllisch gut« (Die Wel
 t).\n\nTickets erhältlich unter ReserviX\nEINTRITT: EURO 16.- / 10.-\nSTR
 EAM-TICKETS: EURO 8.-\n\nSPRACHEN: ENGLISCH &amp\; DEUTSCH\n\nVeranstalter
 : Stiftung Literaturhaus\n\n
CATEGORIES:Buchpräsentation,Gespräch / Diskussion,Lesung
LOCATION:Literaturhaus München\, Salvatorplatz 1\, München\, Bayern\, 803
 33\, Deutschland
GEO:48.142051;11.574991
X-APPLE-STRUCTURED-LOCATION;VALUE=URI;X-ADDRESS=Salvatorplatz 1\, München\
 , Bayern\, 80333\, Deutschland;X-APPLE-RADIUS=100;X-TITLE=Literaturhaus M
 ünchen:geo:48.142051,11.574991
END:VEVENT
BEGIN:VTIMEZONE
TZID:Europe/Berlin
X-LIC-LOCATION:Europe/Berlin
BEGIN:STANDARD
DTSTART:20251026T020000
TZOFFSETFROM:+0200
TZOFFSETTO:+0100
TZNAME:CET
END:STANDARD
END:VTIMEZONE
END:VCALENDAR