BEGIN:VCALENDAR
VERSION:2.0
PRODID:-//wp-events-plugin.com//7.2.3.1//EN
TZID:Europe/Berlin
X-WR-TIMEZONE:Europe/Berlin
BEGIN:VEVENT
UID:11388@literaturseiten-muenchen.de
DTSTART;TZID=Europe/Berlin;VALUE=DATE:20251101
DTEND;TZID=Europe/Berlin;VALUE=DATE:20251201
DTSTAMP:20251116T195246Z
URL:https://www.literaturseiten-muenchen.de/veranstaltungen/susan-sontag-e
 verything-matters-2/
SUMMARY:Susan Sontag »EVERYTHING MATTERS«
DESCRIPTION:»Everything matters« – »Alles ist wichtig«\, schrieb Susa
 n Sontag\, die große New Yorker Intellektuelle\, bereits als 16-jährige 
 in ihr Tagebuch. Für die brillante Essayistin\, Schriftstellerin\, Kultur
 besessene war es gleichermaßen wichtig zu lesen\, zu schreiben\, zu schau
 en\, zu handeln\, zu leben. Die Ausstellung im Literaturhaus München stel
 lt diese Ikone philosophischen Denkens im 20. Jahrhundert in fünf Station
 en vor und inszeniert eine Zeitreise an ihren Lebensort New York und zu ih
 ren Lebensmenschen. Ein eigenes Urteil zu haben\, die Wirkung von Kunst zu
 zulassen\, sich selbst ein Bild zu machen\, an die Orte des Geschehens zu 
 reisen – Susan Sontags radikale Unabhängigkeit\, sowohl ästhetisch wie
  politisch\, war ihr leidenschaftliches Credo. »Die Welt war ihr Thema«\
 , so Paul Auster\, mit dem Susan Sontag eine jahrzehntelange Freundschaft 
 verband. Nun wird sie von einer neuen Generation entdeckt.\n\nMit zahlreic
 hen\, teils unveröffentlichten Fotografien\, Manuskripten\, Zitaten\, Fil
 mausschnitten\, persönlichen Gegenständen aus dem Nachlass und einem umf
 angreichen Begleitprogramm.\n\nwww.literaturhaus-muenchen.de\n\nGalerie (E
 G)\nMO-SO 11-18 Uhr\, DO 11-20 Uhr\nEintritt: € 8.- / 6.-\nmontags € 3
 .- für Schüler*innen &amp\; Student*innen\nLetzte Runde ab 17.30 Uhr (DO
  19.30 Uhr): € 4.-
CATEGORIES:Ausstellungen
LOCATION:Literaturhaus\, Salvatorplatz 1\, München\, Bayern\, Deutschland
GEO:48.142051;11.574991
X-APPLE-STRUCTURED-LOCATION;VALUE=URI;X-ADDRESS=Salvatorplatz 1\, München\
 , Bayern\, Deutschland;X-APPLE-RADIUS=100;X-TITLE=Literaturhaus:geo:48.142
 051,11.574991
END:VEVENT
BEGIN:VTIMEZONE
TZID:Europe/Berlin
X-LIC-LOCATION:Europe/Berlin
BEGIN:STANDARD
DTSTART:20251026T020000
TZOFFSETFROM:+0200
TZOFFSETTO:+0100
TZNAME:CET
END:STANDARD
END:VTIMEZONE
END:VCALENDAR