BEGIN:VCALENDAR
VERSION:2.0
PRODID:-//wp-events-plugin.com//7.2.3.1//EN
TZID:Europe/Berlin
X-WR-TIMEZONE:Europe/Berlin
BEGIN:VEVENT
UID:11501@literaturseiten-muenchen.de
DTSTART;TZID=Europe/Berlin:20250930T180000
DTEND;TZID=Europe/Berlin:20250930T190000
DTSTAMP:20250728T141002Z
URL:https://www.literaturseiten-muenchen.de/veranstaltungen/susan-sontag-e
 verything-matters-feierabendfuehrung/
SUMMARY:SUSAN SONTAG »Susan Sontag ›Everything matters‹« Feierabendf
 ührung
DESCRIPTION:»I wanted to see as much as I could.« Susan Sontag\, 2003\n\n
 »Everything matters« – »Alles ist wichtig«\, schrieb Susan Sontag\, 
 die große New Yorker Intellektuelle\, bereits als 16-jährige in ihr Tage
 buch. Für die brillante Essayistin\, Schriftstellerin\, Kulturbesessene w
 ar es gleichermaßen wichtig zu lesen\, zu schreiben\, zu schauen\, zu han
 deln\, zu leben. Die Ausstellung im Literaturhaus München stellt diese Ik
 one philosophischen Denkens im 20. Jahrhundert in fünf Stationen vor und 
 inszeniert eine Zeitreise an ihren Lebensort New York und zu ihren Lebensm
 enschen. Ein eigenes Urteil zu haben\, die Wirkung von Kunst zuzulassen\, 
 sich selbst ein Bild zu machen\, an die Orte des Geschehens zu reisen – 
 Susan Sontags radikale Unabhängigkeit\, sowohl ästhetisch wie politisch\
 , war ihr leidenschaftliches Credo. »Die Welt war ihr Thema«\, so Paul A
 uster\, mit dem Susan Sontag eine jahrzehntelange Freundschaft verband. Nu
 n wird sie von einer neuen Generation entdeckt.\n\nElisa Morell begleitete
  als Assistenz die Kuration der Ausstellung und studiert Philosophie in M
 ünchen.\n\nKarten ab 1.8. um 10 Uhr über die Website des Literaturhauses
 \nGEBÜHR: EURO 15.- / 10.- (inkl. Ausstellungseintritt)\n\nVeranstalter: 
 Stiftung Literaturhaus
CATEGORIES:Ausstellungen
LOCATION:Literaturhaus München Galerie\, Salvatorplatz 1\, München\, 8033
 3\, Deutschland
GEO:48.142051;11.574991
X-APPLE-STRUCTURED-LOCATION;VALUE=URI;X-ADDRESS=Salvatorplatz 1\, München\
 , 80333\, Deutschland;X-APPLE-RADIUS=100;X-TITLE=Literaturhaus München Ga
 lerie:geo:48.142051,11.574991
END:VEVENT
BEGIN:VTIMEZONE
TZID:Europe/Berlin
X-LIC-LOCATION:Europe/Berlin
BEGIN:DAYLIGHT
DTSTART:20250330T030000
TZOFFSETFROM:+0100
TZOFFSETTO:+0200
TZNAME:CEST
END:DAYLIGHT
END:VTIMEZONE
END:VCALENDAR