BEGIN:VCALENDAR
VERSION:2.0
PRODID:-//wp-events-plugin.com//7.2.3.1//EN
TZID:Europe/Berlin
X-WR-TIMEZONE:Europe/Berlin
BEGIN:VEVENT
UID:11878@literaturseiten-muenchen.de
DTSTART;TZID=Europe/Berlin:20251118T180000
DTEND;TZID=Europe/Berlin:20251118T190000
DTSTAMP:20251006T123138Z
URL:https://www.literaturseiten-muenchen.de/veranstaltungen/susan-sontag-s
 usan-sontag-everything-matters-feierabendfuehrung-7/
SUMMARY:SUSAN SONTAG »Susan Sontag ›Everything matters‹« Feierabendf
 ührung
DESCRIPTION:Mit Jenni Holtgrewe\n\n»Everything matters« – »Alles ist w
 ichtig«\, schrieb Susan Sontag\, die große New Yorker Intellektuelle\, b
 ereits als 16-jährige in ihr Tagebuch. Für die brillante Essayistin\, Sc
 hriftstellerin\, Kulturbesessene war es gleichermaßen wichtig zu lesen\, 
 zu schreiben\, zu schauen\, zu handeln\, zu leben. Die Ausstellung im Lite
 raturhaus München stellt diese Ikone philosophischen Denkens im 20. Jahrh
 undert in fünf Stationen vor und inszeniert eine Zeitreise an ihren Leben
 sort New York und zu ihren Lebensmenschen. Ein eigenes Urteil zu haben\, d
 ie Wirkung von Kunst zuzulassen\, sich selbst ein Bild zu machen\, an die 
 Orte des Geschehens zu reisen – Susan Sontags radikale Unabhängigkeit\,
  sowohl ästhetisch wie politisch\, war ihr leidenschaftliches Credo. »Di
 e Welt war ihr Thema«\, so Paul Auster\, mit dem Susan Sontag eine jahrze
 hntelange Freundschaft verband. Nun wird sie von einer neuen Generation en
 tdeckt.\n\nJenni Holtgrewe ist Literaturwissenschaftlerin und begleitete a
 ls Assistenz die Kuration der Ausstellung in München.\n\n&nbsp\;\n\nTicke
 ts erhältlich unter Reservix\nGEBÜHR: EURO 15.- / 10.- (inkl. Ausstellun
 gseintritt)Veranstalter: Stiftung Literaturhaus\n\nBegleitprogramm zur Aus
 stellung: Susan Sontag\n
CATEGORIES:Ausstellungen
LOCATION:Literaturhaus Galerie\, Salvatorplatz 1\, München\, 80333\, Deuts
 chland
GEO:48.1420514;11.574990800000023
X-APPLE-STRUCTURED-LOCATION;VALUE=URI;X-ADDRESS=Salvatorplatz 1\, München\
 , 80333\, Deutschland;X-APPLE-RADIUS=100;X-TITLE=Literaturhaus Galerie:geo
 :48.1420514,11.574990800000023
END:VEVENT
BEGIN:VTIMEZONE
TZID:Europe/Berlin
X-LIC-LOCATION:Europe/Berlin
BEGIN:STANDARD
DTSTART:20251026T020000
TZOFFSETFROM:+0200
TZOFFSETTO:+0100
TZNAME:CET
END:STANDARD
END:VTIMEZONE
END:VCALENDAR