BEGIN:VCALENDAR
VERSION:2.0
PRODID:-//wp-events-plugin.com//7.2.3.1//EN
TZID:Europe/Berlin
X-WR-TIMEZONE:Europe/Berlin
BEGIN:VEVENT
UID:12950@literaturseiten-muenchen.de
DTSTART;TZID=Europe/Berlin:20260516T200000
DTEND;TZID=Europe/Berlin:20260516T220000
DTSTAMP:20260415T161146Z
URL:https://www.literaturseiten-muenchen.de/veranstaltungen/sven-stricker-
 bjarne-maedel-soerensen-geht-aufs-haus/
SUMMARY:Sven Stricker & Bjarne Mädel „Sörensen geht aufs Haus“
DESCRIPTION:Lesung und Musik\n\nDer Autor und freie Wortregisseur Sven Stri
 cker präsentiert mit „Sörensen geht aufs Haus“ seinen sechsten Roman
  der Sörensen Reihe und kommt nicht alleine\, sondern zusammen mit Bjarne
  Mädel\, dem Schauspieler\, Regisseur\, Autor und Hörspielsprecher\, der
  in den Verfilmungen von Sven Strickers Büchern den Kommissar Sörensen s
 pielt. Der Musiker Jan-Peter Pflug\, der zu den Sörensen-Hörbüchern die
  Musik komponiert hat\, wird den Abend am Keyboard begleiten.\n\nVeränder
 ungen stehen an bei Sörensen\, und Veränderungen sind generell nicht gut
 . Nachdem er seinen Vater bei sich aufgenommen hat\, taucht überraschend 
 auch noch ein alter Schulfreund Sörensens auf. Genauer gesagt: der einzig
 e Freund\, den Sörensen als Kind hatte… Doch der bringt keine nostalgis
 chen Erinnerungsflüge\, sondern einen Sack voll Probleme mit – denn in 
 seinem Garten werden menschliche Überreste gefunden. Und schon steckt Sö
 rensen in der nächsten Mordermittlung. Für die er dringend seine Kollegi
 n Jenny braucht\, die sich allerdings ebenfalls verändern möchte …\n\n
 Tickets: MünchenTicket\, 37\,50/45\,30€
CATEGORIES:Lesung,Literatur &amp; Musik
LOCATION:Münchner Volkstheater\, Tumblingerstr. 29\, München\, Bayern\, 8
 0337\, Deutschland
GEO:48.123641;11.555418
X-APPLE-STRUCTURED-LOCATION;VALUE=URI;X-ADDRESS=Tumblingerstr. 29\, Münche
 n\, Bayern\, 80337\, Deutschland;X-APPLE-RADIUS=100;X-TITLE=Münchner Volk
 stheater:geo:48.123641,11.555418
END:VEVENT
BEGIN:VTIMEZONE
TZID:Europe/Berlin
X-LIC-LOCATION:Europe/Berlin
BEGIN:DAYLIGHT
DTSTART:20260329T030000
TZOFFSETFROM:+0100
TZOFFSETTO:+0200
TZNAME:CEST
END:DAYLIGHT
END:VTIMEZONE
END:VCALENDAR