BEGIN:VCALENDAR
VERSION:2.0
PRODID:-//wp-events-plugin.com//7.2.3.1//EN
TZID:Europe/Berlin
X-WR-TIMEZONE:Europe/Berlin
BEGIN:VEVENT
UID:12028@literaturseiten-muenchen.de
DTSTART;TZID=Europe/Berlin:20251201T180000
DTEND;TZID=Europe/Berlin:20251201T193000
DTSTAMP:20251029T092954Z
URL:https://www.literaturseiten-muenchen.de/veranstaltungen/tantenschaft-u
 nd-tantenbilder-zwischen-literatur-und-wirklichkeit/
SUMMARY:Tantenschaft und Tantenbilder zwischen Literatur und Wirklichkeit
DESCRIPTION:Die Position der Tante ist ambivalent: einerseits Teil der Fami
 lie und eine der nächsten Verwandten von Neffen und Nichten\, andererseit
 s Zuschauerin am Rande des Geschehens. Das spiegelt sich in der literarisc
 hen Auseinandersetzung mit ihr wider. Welche Tantenbilder existieren und w
 ie haben sich diese gewandelt? Der Vortrag beschäftigt sich exemplarisch 
 mit Texten wie Thomas Manns "Buddenbrooks"\, Ursula März' "Tante Martl" u
 nd Ricarda Kiels "Tante Alles" und diskutiert\, inwiefern literarische Tex
 te in Wechselwirkung mit realen Familienmodellen treten.\n\nKursnummer: V2
 40130\n\nDozentin: Christina Madenach\n\nGebühr: € 9\,-\n\nWeitere Info
 rmationen erhalten Sie unter: https://www.mvhs.de/kurse/die-mvhs-im-hp8/k
 ultur-kunst-kreativitaet/literatur-kreatives-schreiben-film/tantenschaft-u
 nd-tantenbilder-zwischen-literatur-und-wirklichkeit-460-C-V240130
CATEGORIES:Vortrag
LOCATION:MVHS im HP8\, Hans-Preißinger-Str. 8 \, München\, Deutschland\, 
 81379\, Sendling\, Deutschland
GEO:48.110833;11.553216
X-APPLE-STRUCTURED-LOCATION;VALUE=URI;X-ADDRESS=Hans-Preißinger-Str. 8 \, 
 München\, Deutschland\, 81379\, Sendling\, Deutschland;X-APPLE-RADIUS=100
 ;X-TITLE=MVHS im HP8:geo:48.110833,11.553216
END:VEVENT
BEGIN:VTIMEZONE
TZID:Europe/Berlin
X-LIC-LOCATION:Europe/Berlin
BEGIN:STANDARD
DTSTART:20251026T020000
TZOFFSETFROM:+0200
TZOFFSETTO:+0100
TZNAME:CET
END:STANDARD
END:VTIMEZONE
END:VCALENDAR