BEGIN:VCALENDAR
VERSION:2.0
PRODID:-//wp-events-plugin.com//7.2.3.1//EN
TZID:Europe/Berlin
X-WR-TIMEZONE:Europe/Berlin
BEGIN:VEVENT
UID:12259@literaturseiten-muenchen.de
DTSTART;TZID=Europe/Berlin:20260123T200000
DTEND;TZID=Europe/Berlin:20260123T213000
DTSTAMP:20251214T041636Z
URL:https://www.literaturseiten-muenchen.de/veranstaltungen/texte-statt-br
 ezn-was-kann-der-einzelne-ausrichten/
SUMMARY:texte-statt-brezn: WAS KANN DER EINZELNE AUSRICHTEN?
DESCRIPTION:Texte von Oskar Maria Graf\nes liest Katrin Sorko musikalisch b
 egleitet von der Eder Blosn \nOskar Maria Graf’s Texte erzwingen Hinseh
 en\, Hinhören\, Mitreden\, besonders in unserer Zeit.\nEin Abend revoluti
 onär mitreißend\, leidenschaftlich bairisch mit hand-und herzgemachter m
 usik (ziach\, violine\, gitarre\, vokal).
CATEGORIES:Lesung,Literatur &amp; Musik
LOCATION:TamS Theater\, Haimhauserstrasse 13a\, München\, 80802\, Bayern\,
  Deutschland
GEO:48.1623242;11.590158100000053
X-APPLE-STRUCTURED-LOCATION;VALUE=URI;X-ADDRESS=Haimhauserstrasse 13a\, Mü
 nchen\, 80802\, Bayern\, Deutschland;X-APPLE-RADIUS=100;X-TITLE=TamS Theat
 er:geo:48.1623242,11.590158100000053
END:VEVENT
BEGIN:VTIMEZONE
TZID:Europe/Berlin
X-LIC-LOCATION:Europe/Berlin
BEGIN:STANDARD
DTSTART:20251026T020000
TZOFFSETFROM:+0200
TZOFFSETTO:+0100
TZNAME:CET
END:STANDARD
END:VTIMEZONE
END:VCALENDAR