BEGIN:VCALENDAR
VERSION:2.0
PRODID:-//wp-events-plugin.com//7.2.3.1//EN
TZID:Europe/Berlin
X-WR-TIMEZONE:Europe/Berlin
BEGIN:VEVENT
UID:11270@literaturseiten-muenchen.de
DTSTART;TZID=Europe/Berlin:20251012T170000
DTEND;TZID=Europe/Berlin:20251012T190000
DTSTAMP:20250729T140136Z
URL:https://www.literaturseiten-muenchen.de/veranstaltungen/thomas-loibl-d
 er-tod-in-venedig/
SUMMARY:Thomas Loibl: Der Tod in Venedig
DESCRIPTION:Der gefeierte Charakterdarsteller Thomas Loibl interpretiert zu
 m 150. Geburtstag Thomas Manns dessen weltberühmte Novelle „Der Tod in 
 Venedig“ mit Musik des Gitarristen Perry Schack.
CATEGORIES:Lesung,Literatur &amp; Musik
LOCATION:Münchner Künstlerhaus\, Lenbachplatz 8\, München\, Deutschland
GEO:48.140237;11.567712
X-APPLE-STRUCTURED-LOCATION;VALUE=URI;X-ADDRESS=Lenbachplatz 8\, München\,
  Deutschland;X-APPLE-RADIUS=100;X-TITLE=Münchner Künstlerhaus:geo:48.140
 237,11.567712
END:VEVENT
BEGIN:VTIMEZONE
TZID:Europe/Berlin
X-LIC-LOCATION:Europe/Berlin
BEGIN:DAYLIGHT
DTSTART:20250330T030000
TZOFFSETFROM:+0100
TZOFFSETTO:+0200
TZNAME:CEST
END:DAYLIGHT
END:VTIMEZONE
END:VCALENDAR