BEGIN:VCALENDAR
VERSION:2.0
PRODID:-//wp-events-plugin.com//7.2.3.1//EN
TZID:Europe/Berlin
X-WR-TIMEZONE:Europe/Berlin
BEGIN:VEVENT
UID:12972@literaturseiten-muenchen.de
DTSTART;TZID=Europe/Berlin:20260428T190000
DTEND;TZID=Europe/Berlin:20260428T190000
DTSTAMP:20260422T142947Z
URL:https://www.literaturseiten-muenchen.de/veranstaltungen/thomas-montass
 er-liest-aus-die-wanderbuecherei/
SUMMARY:Thomas Montasser liest aus „Die Wanderbücherei“
DESCRIPTION:Thomas Montasser stellt seinen neuen Roman „Die Wanderbücher
 ei“ vor. Dazu hält Reinhold Kocaurek von den Freunden des Münchner Tra
 mbahnmuseums einen Vortrag über den historische Büchereiwagen\, der bis 
 1970 in München die Bücherausleihe in den Stadtteilen ermöglichte.\n\nD
 er Eintritt ist frei.\nWir bitten um Anmeldung bei agentur@montassermedia.
 de
CATEGORIES:Buchpräsentation,Lesung
LOCATION:MVG-Museum\, Ständlerstraße 20\, München\, Bayern\, 81549\, Deu
 tschland
GEO:48.10326;11.601056
X-APPLE-STRUCTURED-LOCATION;VALUE=URI;X-ADDRESS=Ständlerstraße 20\, Münc
 hen\, Bayern\, 81549\, Deutschland;X-APPLE-RADIUS=100;X-TITLE=MVG-Museum:g
 eo:48.10326,11.601056
END:VEVENT
BEGIN:VTIMEZONE
TZID:Europe/Berlin
X-LIC-LOCATION:Europe/Berlin
BEGIN:DAYLIGHT
DTSTART:20260329T030000
TZOFFSETFROM:+0100
TZOFFSETTO:+0200
TZNAME:CEST
END:DAYLIGHT
END:VTIMEZONE
END:VCALENDAR