BEGIN:VCALENDAR
VERSION:2.0
PRODID:-//wp-events-plugin.com//7.2.3.1//EN
TZID:Europe/Berlin
X-WR-TIMEZONE:Europe/Berlin
BEGIN:VEVENT
UID:11759@literaturseiten-muenchen.de
DTSTART;TZID=Europe/Berlin:20251026T120000
DTEND;TZID=Europe/Berlin:20251026T160000
DTSTAMP:20250911T140530Z
URL:https://www.literaturseiten-muenchen.de/veranstaltungen/through-the-ke
 yhole/
SUMMARY:Through the Keyhole
DESCRIPTION:Schreiben zwischen Bild\, Exil und Erinnerung. Workshop mit Den
 ijen Pauljević\n\nEin Auge\, ein Körper\, ein Bild – was bleibt\, was 
 vergeht? Ausgehend von der\, bei SPIELART gezeigten Produktion THIS PLOT I
 S NOT FOR SALE und dem Dokumentarfilm SCENES FROM THE LABUDOVIĆ REELS üb
 er den Kameramann Stevan Labudović\, erkundet der Workshop\, wie Erinneru
 ng\, politische Bilder und persönliche Geschichten zusammenwirken. Auf de
 n Spuren von Vergangenheit\, Widerstand und Verlust – mit Schreibübunge
 n\, szenischen Miniaturen und offenen Perspektiven.\n\nSprachen: Deutsch\,
  Englisch\, BKS-Sprachen (Bosnisch\, Kroatisch\, Serbisch)\nFreier Eintrit
 t\nAnmeldung: kultur@bellevuedimonaco.de\nMax. 15 Teilnehmende\nIm Rahmen 
 des Spielart Festivals
CATEGORIES:Schreibwerkstatt
LOCATION:Bellevue di Monaco\, Müllerstraße 2-6\, München\, 80469 \, Deut
 schland
GEO:48.13329;11.574735
X-APPLE-STRUCTURED-LOCATION;VALUE=URI;X-ADDRESS=Müllerstraße 2-6\, Münch
 en\, 80469 \, Deutschland;X-APPLE-RADIUS=100;X-TITLE=Bellevue di Monaco:ge
 o:48.13329,11.574735
END:VEVENT
BEGIN:VTIMEZONE
TZID:Europe/Berlin
X-LIC-LOCATION:Europe/Berlin
BEGIN:STANDARD
DTSTART:20251026T020000
TZOFFSETFROM:+0200
TZOFFSETTO:+0100
TZNAME:CET
END:STANDARD
END:VTIMEZONE
END:VCALENDAR