BEGIN:VCALENDAR
VERSION:2.0
PRODID:-//wp-events-plugin.com//7.2.3.1//EN
TZID:Europe/Berlin
X-WR-TIMEZONE:Europe/Berlin
BEGIN:VEVENT
UID:11997@literaturseiten-muenchen.de
DTSTART;TZID=Europe/Berlin:20251115T160000
DTEND;TZID=Europe/Berlin:20251115T170000
DTSTAMP:20251017T103358Z
URL:https://www.literaturseiten-muenchen.de/veranstaltungen/tim-proese-das
 -war-spitze-wie-hans-rosenthal-den-holocaust-ueberlebte/
SUMMARY:Tim Pröse „Das war … Spitze! Wie Hans Rosenthal den Holocaust 
 überlebte“
DESCRIPTION:Spiegel-Bestsellerautor Tim Pröse präsentiert in dieser szeni
 schen Lesung drei Leben in Deutschland. Neben zwei weiteren Überlebenden 
 hat er den berühmten Quizmaster Hans Rosenthal porträtiert\, der 2025 10
 0 Jahre alt geworden wäre. Er überlebte den Holocaust nur\, weil ihn dre
 i Berliner Frauen in ihrer Schrebergarten-Kolonie versteckten. Tim Pröse 
 hat eine intensive Spurensuche unternommen und beschreibt Rosenthals Jahre
  zwischen Leben und Tod hautnah.\n\nEintritt frei. Anmeldung in der Stadtb
 ibliothek Hadern oder der MVHS erforderlich.\n\n5. Haderner Senior*innenwo
 che der Münchner Stadtbibliothek Hadern\, 10.-15. November 2025\n\n&nbsp\
 ;
CATEGORIES:Lesung
LOCATION:MVHS Hadern\, Guardinistr. 90\, München\, Deutschland
GEO:48.11852;11.490890000000035
X-APPLE-STRUCTURED-LOCATION;VALUE=URI;X-ADDRESS=Guardinistr. 90\, München\
 , Deutschland;X-APPLE-RADIUS=100;X-TITLE=MVHS Hadern:geo:48.11852,11.49089
 0000000035
END:VEVENT
BEGIN:VTIMEZONE
TZID:Europe/Berlin
X-LIC-LOCATION:Europe/Berlin
BEGIN:STANDARD
DTSTART:20251026T020000
TZOFFSETFROM:+0200
TZOFFSETTO:+0100
TZNAME:CET
END:STANDARD
END:VTIMEZONE
END:VCALENDAR