BEGIN:VCALENDAR
VERSION:2.0
PRODID:-//wp-events-plugin.com//7.2.3.1//EN
TZID:Europe/Berlin
X-WR-TIMEZONE:Europe/Berlin
BEGIN:VEVENT
UID:12187@literaturseiten-muenchen.de
DTSTART;TZID=Europe/Berlin:20260119T190000
DTEND;TZID=Europe/Berlin:20260119T203000
DTSTAMP:20251201T150500Z
URL:https://www.literaturseiten-muenchen.de/veranstaltungen/tove-jansson-d
 ie-welt-der-mumins-montagskino-tove/
SUMMARY:»Tove Jansson: Die Welt der Mumins« MONTAGSKINO ›TOVE‹
DESCRIPTION:Helsinki in den 1940er Jahren: Die junge Künstlerin Tove Janss
 on sucht ihren eigenen Weg – zwischen Malerei\, Literatur und dem Wunsch
  nach künstlerischer wie persönlicher Freiheit. Während sie mit ihrer K
 unst ringt\, entstehen die ersten Zeichnungen der Mumins – jener Fantasi
 ewesen\, die bald weltberühmt werden. Der Film »Tove« (von Zaida Bergro
 th\, Finnland/Schweden 2020\, 103 Min.) zeichnet mit großem Feingefühl d
 as Porträt einer mutigen Frau\, die sich über gesellschaftliche Grenzen 
 hinwegsetzt und ihren eigenen Ausdruck findet – in der Liebe\, im Leben 
 und in der Kunst. Regisseurin Zaida Bergroth und Hauptdarstellerin Alma P
 öysti bringen Tove Jansson mit eindrucksvoller Intensität auf die Leinwa
 nd – lebendig\, widersprüchlich\, frei.\n\nEINTRITT FREI (Anmeldung unt
 er sekretariat@literaturhaus-muenchen.de)\n\nVeranstalter: Stiftung Litera
 turhaus // mit freundlicher Unterstützung durch Salzgeber &amp\; Co. Medi
 en\n\nBegleitprogramm zur Ausstellung:\n\nTove Jansson\n
CATEGORIES:Weitere Veranstaltungen
LOCATION:Literaturhaus München\, Salvatorplatz 1\, München\, Bayern\, 803
 33\, Deutschland
GEO:48.142051;11.574991
X-APPLE-STRUCTURED-LOCATION;VALUE=URI;X-ADDRESS=Salvatorplatz 1\, München\
 , Bayern\, 80333\, Deutschland;X-APPLE-RADIUS=100;X-TITLE=Literaturhaus M
 ünchen:geo:48.142051,11.574991
END:VEVENT
BEGIN:VTIMEZONE
TZID:Europe/Berlin
X-LIC-LOCATION:Europe/Berlin
BEGIN:STANDARD
DTSTART:20251026T020000
TZOFFSETFROM:+0200
TZOFFSETTO:+0100
TZNAME:CET
END:STANDARD
END:VTIMEZONE
END:VCALENDAR