BEGIN:VCALENDAR
VERSION:2.0
PRODID:-//wp-events-plugin.com//7.2.3.1//EN
TZID:Europe/Berlin
X-WR-TIMEZONE:Europe/Berlin
BEGIN:VEVENT
UID:12186@literaturseiten-muenchen.de
DTSTART;TZID=Europe/Berlin:20260118T170000
DTEND;TZID=Europe/Berlin:20260118T183000
DTSTAMP:20251201T144045Z
URL:https://www.literaturseiten-muenchen.de/veranstaltungen/trag-das-feuer
 -weiter-lesung-mit-leila-slimani/
SUMMARY:»Trag das Feuer weiter« Lesung mit Leïla Slimani
DESCRIPTION:Lesung: Sabrina Khalil\nModeration: Judith Heitkamp\n\nLeïla S
 limani\, geboren 1981 in Rabat\, ist eine der wichtigsten und einflussreic
 hsten literarischen Stimmen Frankreichs. Sie wurde vielfach ausgezeichnet\
 , u.a. mit dem Prix Goncourt für ihren Roman »Dann schlaf auch du« (201
 6) und mit dem Prix Simone de Beauvoir für ihren Einsatz für die Freihei
 t von Frauen in Marokko und weltweit. In ihrem neuen Roman (Luchterhand //
  dt. von Amelie Thoma) erzählt sie von Mia\, einer erfolgreichen Schrifts
 tellerin in Paris\, die mit brain fog kämpft und auf Anraten ihres Arztes
  nach Marokko reist\, in das Land ihrer Kindheit. Dort taucht sie tief ein
  in eine Geschichte\, die vom Kampf gegen gesellschaftliche Grenzen erzäh
 lt – und vom Streben nach Freiheit. Nach »Das Land der Anderen« und »
 Schaut\, wie wir tanzen« der faszinierende Abschluss von Leïla Slimanis 
 großer Familientrilogie.\n\nTickets erhältlich unter ReserviX:\nEINTRITT
 : EURO 16.- / 10.-\nSTREAM-TICKETS: EURO 8.-\n\nSPRACHEN: FRANZÖSISCH &am
 p\; DEUTSCH\n\nVeranstalter: Stiftung Literaturhaus // in Kooperation mit 
 dem Institut français München
CATEGORIES:Buchpräsentation,Gespräch / Diskussion,Lesung
LOCATION:Literaturhaus München\, Salvatorplatz 1\, München\, Bayern\, 803
 33\, Deutschland
GEO:48.142051;11.574991
X-APPLE-STRUCTURED-LOCATION;VALUE=URI;X-ADDRESS=Salvatorplatz 1\, München\
 , Bayern\, 80333\, Deutschland;X-APPLE-RADIUS=100;X-TITLE=Literaturhaus M
 ünchen:geo:48.142051,11.574991
END:VEVENT
BEGIN:VTIMEZONE
TZID:Europe/Berlin
X-LIC-LOCATION:Europe/Berlin
BEGIN:STANDARD
DTSTART:20251026T020000
TZOFFSETFROM:+0200
TZOFFSETTO:+0100
TZNAME:CET
END:STANDARD
END:VTIMEZONE
END:VCALENDAR