BEGIN:VCALENDAR
VERSION:2.0
PRODID:-//wp-events-plugin.com//7.2.3.1//EN
TZID:Europe/Berlin
X-WR-TIMEZONE:Europe/Berlin
BEGIN:VEVENT
UID:11477@literaturseiten-muenchen.de
DTSTART;TZID=Europe/Berlin:20251209T183000
DTEND;TZID=Europe/Berlin:20251209T203000
DTSTAMP:20251110T112518Z
URL:https://www.literaturseiten-muenchen.de/veranstaltungen/treffen-des-li
 teraturclubs-vor-dem-spiegel-autor-veniamin-kawerin/
SUMMARY:Treffen des Literaturclubs: "Vor dem Spiegel"\, Autor: Veniamin Kaw
 erin
DESCRIPTION:Eingeladen sind junge Menschen\, die sich für Literatur intere
 ssieren. Es wird über das Buch "Vor dem Spiegel“\, Autor: Veniamin Kawe
 rin in russischer Sprache diskutiert.\n\nAls sich Lisa und Kostja in ihrer
  Jugend kennen- und lieben lernen\, ist ihre Welt noch in Ordnung: Lisa ge
 ht aufs Gymnasium\, Kostja ist Student. Zwischen ihnen entwickelt sich ein
 e Liebe\, die eine Trennung auf Zeit in Kauf nimmt\, damit jeder der beide
 n sich entwickeln kann. Und auch als die alte Ordnung zerbricht und ihre W
 ege sich durch die Wogen der Revolution trennen - Lisa geht als Malerin in
  den Westen\, Kostja macht als Mathematiker in der Sowjetunion Karriere 
 ―\, überdauert ihre tiefe Liebe die Zeit. Lisas Briefe zeigen ihre leid
 enschaftliche Auseinandersetzung mit der zeitgenössischen Malerei\, vor a
 llen Dingen aber spiegeln sie die Suche einer Frau nach ihrer persönliche
 n Freiheit.
CATEGORIES:Lesung
LOCATION:Tolstoi-Bibliothek\, Aldringenstrasse 4\, München\, Bayern\, 8063
 9\, Deutschland
GEO:48.155605;11.530988
X-APPLE-STRUCTURED-LOCATION;VALUE=URI;X-ADDRESS=Aldringenstrasse 4\, Münch
 en\, Bayern\, 80639\, Deutschland;X-APPLE-RADIUS=100;X-TITLE=Tolstoi-Bibli
 othek:geo:48.155605,11.530988
END:VEVENT
BEGIN:VTIMEZONE
TZID:Europe/Berlin
X-LIC-LOCATION:Europe/Berlin
BEGIN:STANDARD
DTSTART:20251026T020000
TZOFFSETFROM:+0200
TZOFFSETTO:+0100
TZNAME:CET
END:STANDARD
END:VTIMEZONE
END:VCALENDAR