BEGIN:VCALENDAR
VERSION:2.0
PRODID:-//wp-events-plugin.com//7.2.3.1//EN
TZID:Europe/Berlin
X-WR-TIMEZONE:Europe/Berlin
BEGIN:VEVENT
UID:11908@literaturseiten-muenchen.de
DTSTART;TZID=Europe/Berlin:20251121T180000
DTEND;TZID=Europe/Berlin:20251121T200000
DTSTAMP:20251017T073901Z
URL:https://www.literaturseiten-muenchen.de/veranstaltungen/turlbulenzen-l
 esung-und-buchvorstellung-zum-bundesvorlesetag/
SUMMARY:Turbulenzen\, Lesung und Buchvorstellung zum Bundesvorlesetag
DESCRIPTION:Zum Bundesvorlesetag laden wir herzlich ein zur Lesung aus dem 
 Buch „Turbulenzen“ – einer facettenreichen Sammlung aus Geschichten\
 , Gedichten und Kurztexten\, verfasst von Literat*innen der künstlerische
 n Tagesstätte TheaterAtelier.\n\nFreuen Sie sich auf bewegende\, überras
 chende und nachdenkliche Texte\, die Einblicke in persönliche und kreativ
 e Welten geben.\n\nDer Eintritt ist frei\, keine Anmeldung nötig
CATEGORIES:Buchpräsentation,Lesung
LOCATION:Giesinger Bahnhof\, Bahnhofsplatz 1\, München\, 81539\, Deutschla
 nd
GEO:48.139739;11.561453
X-APPLE-STRUCTURED-LOCATION;VALUE=URI;X-ADDRESS=Bahnhofsplatz 1\, München\
 , 81539\, Deutschland;X-APPLE-RADIUS=100;X-TITLE=Giesinger Bahnhof:geo:48.
 139739,11.561453
END:VEVENT
BEGIN:VTIMEZONE
TZID:Europe/Berlin
X-LIC-LOCATION:Europe/Berlin
BEGIN:STANDARD
DTSTART:20251026T020000
TZOFFSETFROM:+0200
TZOFFSETTO:+0100
TZNAME:CET
END:STANDARD
END:VTIMEZONE
END:VCALENDAR