BEGIN:VCALENDAR
VERSION:2.0
PRODID:-//wp-events-plugin.com//7.2.3.1//EN
TZID:Europe/Berlin
X-WR-TIMEZONE:Europe/Berlin
BEGIN:VEVENT
UID:11842@literaturseiten-muenchen.de
DTSTART;TZID=Europe/Berlin:20251116T180000
DTEND;TZID=Europe/Berlin:20251116T200000
DTSTAMP:20251001T121744Z
URL:https://www.literaturseiten-muenchen.de/veranstaltungen/ueberblendunge
 n-buecher-im-dialog-zadie-smith-und-charles-dickens/
SUMMARY:Überblendungen - Bücher im Dialog: Zadie Smith und Charles Dicken
 s
DESCRIPTION:Kein Text steht für sich allein\, er ist stets verbunden mit d
 em Universum der Literatur. Wir setzen den literarischen Dialog zwischen T
 exten fort mit Charles Dickens' berühmtem Roman "Große Erwartungen" und 
 Zadie Smiths neuestem Werk "Betrug". Beide Geschichten spielen im London d
 es 19. Jahrhunderts und erzählen von einem erhofften Millionenerbe. Dabei
  untersuchen sie Aufstiegshoffnungen und Ausschlussmechanismen in der Vikt
 orianischen Gesellschaft.\n\n- Charles Dickens: Große Erwartungen (16. No
 vember)\n- Zadie Smith: Betrug (23. November)\n\nKursnummer: V240120\n\nDo
 zent: Philipp Imhof\n\nGebühr: € 20\,- Einzeln buchbar (Einzelticket 
 € 10\,-)\n\nWeitere Informationen erhalten Sie unter: https://www.mvhs.
 de/kurse/kultur-kunst-kreativitaet/literatur/klassiker-der-weltliteratur/u
 eberblendungen-buecher-im-dialog-zadie-smith-und-charles-dickens-460-C-V24
 0120
CATEGORIES:Vortrag
LOCATION:MVHS im HP8\, Hans-Preißinger-Str. 8 \, München\, Deutschland\, 
 81379\, Sendling\, Deutschland
GEO:48.110833;11.553216
X-APPLE-STRUCTURED-LOCATION;VALUE=URI;X-ADDRESS=Hans-Preißinger-Str. 8 \, 
 München\, Deutschland\, 81379\, Sendling\, Deutschland;X-APPLE-RADIUS=100
 ;X-TITLE=MVHS im HP8:geo:48.110833,11.553216
END:VEVENT
BEGIN:VTIMEZONE
TZID:Europe/Berlin
X-LIC-LOCATION:Europe/Berlin
BEGIN:STANDARD
DTSTART:20251026T020000
TZOFFSETFROM:+0200
TZOFFSETTO:+0100
TZNAME:CET
END:STANDARD
END:VTIMEZONE
END:VCALENDAR