BEGIN:VCALENDAR
VERSION:2.0
PRODID:-//wp-events-plugin.com//7.2.3.1//EN
TZID:Europe/Berlin
X-WR-TIMEZONE:Europe/Berlin
BEGIN:VEVENT
UID:11896@literaturseiten-muenchen.de
DTSTART;TZID=Europe/Berlin:20251122T160000
DTEND;TZID=Europe/Berlin:20251122T173000
DTSTAMP:20251008T132212Z
URL:https://www.literaturseiten-muenchen.de/veranstaltungen/uhren-gibt-es-
 nicht-mehr/
SUMMARY:Uhren gibt es nicht mehr
DESCRIPTION:Szenische Lesung mit Catalina Navarro Kirner und Monika Manz\nB
 ei Kaffee und Kuchen. Musik: Urs Becker und seine Klangmaschine.\n\nDer Wi
 ener Poet André Heller hat die Gespräche mit seiner Mutter in ihrem 102.
  Jahr in seinem Buch "Uhren gibt es nicht mehr" veröffentlicht. Elisabeth
  Heller wurde zu Beginn des ersten Weltkriegs geboren und heiratete mit 19
  Jahren den Süßwarenfabrikanten Stephan Heller. Sie lässt sie ihr lange
 s Leben Revue passieren\, erzählt von einem Suizidversuch aus Liebe\, üb
 er Léhar am Klavier in Bad Ischl und schließlich vom Verabschieden - vol
 ler Weisheit\, Würde\, Poesie und Komik.\nDie beiden Münchner Schauspiel
 erinnen Monika Manz und Catalina Navarro Kirner haben sich in diesen kostb
 aren Dialog sofort verliebt und präsentieren ihn in einer vergnüglichen 
 Lesung.\n\nAndre Heller war und ist seit den 1960er Jahren in der Kunst- u
 nd Kulturszene umtriebig\, gilt als Tausendsassa und Multitalent. Er war L
 iedermacher\, Zirkus- und Varietédirektor\, Kunstgärtner und Autor.\nMon
 ika Manz ist gebürtige Niederbayerin. Ihre Schauspielausbildung erhielt s
 ie am "La Mama Theatre New York". Sie spielt auf großen und kleinen Bühn
 en in München. Darüber hinaus kennt man die bayerische Vollblut-Schauspi
 elerin auch von ihren Film- und Fernsehrollen.\nCatalina Navarro Kirner wu
 rde als Tochter eines Mallorquiners und einer Schwäbin in Augsburg gebore
 n. Sie besuchte die Schauspielschule "Schauspiel München" und wurde danac
 h von Dieter Dorn ans Residenztheater geholt. Sie spielt sich durch Münch
 ens freie Theaterszene\, entwickelt eigene Programme und schreibt Theaters
 tücke. Außerdem ist sie als Konditorei-Besitzerin „Heidrun Niedermayer
 “ aus der ZDF-Serie „Frühling“ sowie weiteren Fernseh- und Kinoprod
 uktionen bekannt.\n\nDas Café Wohnwerk sorgt für Kaffee\, Tee und Kuche
 n.\nAnmeldung persönlich vor Ort\, telefonisch unter 089 233 77 24 28 ode
 r per Mail an stb.neuhausen.kult@muenchen.de
CATEGORIES:Lesung,Literatur &amp; Musik
LOCATION:Münchner Stadtbibliothek Neuhausen\, Nymphenburger Straße 171b\,
  München\, 80634\, Deutschland
GEO:48.155326;11.531989
X-APPLE-STRUCTURED-LOCATION;VALUE=URI;X-ADDRESS=Nymphenburger Straße 171b\
 , München\, 80634\, Deutschland;X-APPLE-RADIUS=100;X-TITLE=Münchner Stad
 tbibliothek Neuhausen:geo:48.155326,11.531989
END:VEVENT
BEGIN:VTIMEZONE
TZID:Europe/Berlin
X-LIC-LOCATION:Europe/Berlin
BEGIN:STANDARD
DTSTART:20251026T020000
TZOFFSETFROM:+0200
TZOFFSETTO:+0100
TZNAME:CET
END:STANDARD
END:VTIMEZONE
END:VCALENDAR