BEGIN:VCALENDAR
VERSION:2.0
PRODID:-//wp-events-plugin.com//7.2.3.1//EN
TZID:Europe/Berlin
X-WR-TIMEZONE:Europe/Berlin
BEGIN:VEVENT
UID:12363@literaturseiten-muenchen.de
DTSTART;TZID=Europe/Berlin:20260226T193000
DTEND;TZID=Europe/Berlin:20260226T210000
DTSTAMP:20260115T094821Z
URL:https://www.literaturseiten-muenchen.de/veranstaltungen/unter-anderen-
 umstaenden-lesung-mit-verena-teke/
SUMMARY:Unter anderen Umständen  - Lesung mit Verena Teke
DESCRIPTION:Ein junges Paar wünscht sich ein Baby. Doch auch nach zwei Jah
 ren hat es nicht geklappt. Während viele Freundinnen schwanger werden\, b
 eginnt Hanna mit einer Kinderwunschbehandlung.\nEine Zeit des Hoffens\, de
 r Unsicherheit und des Zweifelns am eigenen Körper beginnt.\n\nDer Debüt
 roman der Berliner Autorin erzählt behutsam und authentisch von den Monat
 en des Hoffens und Bangens\, die voller trauriger und schmerzhafter\, aber
  oft auch absurder und witziger Momente sind.\n\nVerena Teke hat Theater-\
 , Film- und Fernsehwissenschaften und Germanistik studiert. München kennt
  sie gut\, sie hat eine Zeit lang in der Maxvorstadt gelebt und an den Mü
 nchner Kammerspielen gearbeitet.\n\nPreis: 12\,- Euro\nAnmeldung unter fan
 ny@fannyliest.de oder 089 97860386.\n\nDie Veranstaltung wird von Bayern l
 iest e.V. unterstützt.
CATEGORIES:Gespräch / Diskussion,Lesung
LOCATION:Fanny liest - Bücher in der Maxvorstadt\, Gabelsbergerstr. 40\, M
 ünchen\, 80333\, Deutschland
GEO:48.149322;11.562461
X-APPLE-STRUCTURED-LOCATION;VALUE=URI;X-ADDRESS=Gabelsbergerstr. 40\, Münc
 hen\, 80333\, Deutschland;X-APPLE-RADIUS=100;X-TITLE=Fanny liest - Bücher
  in der Maxvorstadt:geo:48.149322,11.562461
END:VEVENT
BEGIN:VTIMEZONE
TZID:Europe/Berlin
X-LIC-LOCATION:Europe/Berlin
BEGIN:STANDARD
DTSTART:20251026T020000
TZOFFSETFROM:+0200
TZOFFSETTO:+0100
TZNAME:CET
END:STANDARD
END:VTIMEZONE
END:VCALENDAR