BEGIN:VCALENDAR
VERSION:2.0
PRODID:-//wp-events-plugin.com//7.2.3.1//EN
TZID:Europe/Berlin
X-WR-TIMEZONE:Europe/Berlin
BEGIN:VEVENT
UID:12373@literaturseiten-muenchen.de
DTSTART;TZID=Europe/Berlin:20260207T200000
DTEND;TZID=Europe/Berlin:20260207T213000
DTSTAMP:20260114T165308Z
URL:https://www.literaturseiten-muenchen.de/veranstaltungen/verena-richter
 -spiegeleier-und-konfetti/
SUMMARY:Verena Richter: SPIEGELEIER UND KONFETTI
DESCRIPTION:\n\nEin Abend mit Täksten und Musik\nmit Severin Rauch und Ver
 ena Richter\n\nMorgen stricke ich mir aus alten Zeitungen einen Strauß Sc
 hmetterlinge. Ich stelle sie in eine Vase mit Himbeersirup und wünsche I
 hnen alles Gute zum Geburtstag. Ich sage Dienstag zum Montag und Mittwoch
  zum Dienstag und so mache ich es auch mit den restlichen Wochentagen. Bis
  auf den Sonntag\, den lege ich unter mein Kopfkissen und träume von den 
 Wolken.\n\nDinggedicht No. 174\n  Ich bin die Trompete. \nDürft ich
  nicht mehr tuten\,\nich wüsst nicht\nwas ich tätäräte. \n\n&nbsp\;\
 n\n\n\n\n\n\nAm Samstag 7. Februar 2026\n20 Uhr\n\n\n
CATEGORIES:Lesung,Literatur &amp; Musik
LOCATION:TamS Theater\, Haimhauserstrasse 13a\, München\, 80802\, Bayern\,
  Deutschland
GEO:48.1623242;11.590158100000053
X-APPLE-STRUCTURED-LOCATION;VALUE=URI;X-ADDRESS=Haimhauserstrasse 13a\, Mü
 nchen\, 80802\, Bayern\, Deutschland;X-APPLE-RADIUS=100;X-TITLE=TamS Theat
 er:geo:48.1623242,11.590158100000053
END:VEVENT
BEGIN:VTIMEZONE
TZID:Europe/Berlin
X-LIC-LOCATION:Europe/Berlin
BEGIN:STANDARD
DTSTART:20251026T020000
TZOFFSETFROM:+0200
TZOFFSETTO:+0100
TZNAME:CET
END:STANDARD
END:VTIMEZONE
END:VCALENDAR