BEGIN:VCALENDAR
VERSION:2.0
PRODID:-//wp-events-plugin.com//7.2.3.1//EN
TZID:Europe/Berlin
X-WR-TIMEZONE:Europe/Berlin
BEGIN:VEVENT
UID:12684@literaturseiten-muenchen.de
DTSTART;TZID=Europe/Berlin:20260426T100000
DTEND;TZID=Europe/Berlin:20260426T170000
DTSTAMP:20260304T131945Z
URL:https://www.literaturseiten-muenchen.de/veranstaltungen/verloren-in-mu
 enchen-schreib-und-denkwerkstatt-fuer-alle-generationen/
SUMMARY:Verloren in München? Schreib- und Denkwerkstatt für alle Generati
 onen
DESCRIPTION:Literatur spiegelt nicht nur Lebenserfahrungen\, sondern auch d
 ie unterschiedlichen Sprachen verschiedener Generationen. In dieser Schrei
 b- und Denkwerkstatt sollen Sprachgesten und Sprechweisen ins eigene Schre
 iben übersetzt werden und die generationell bedingten Unterschiede oder G
 emeinsamkeiten im Umgang mit den gleichen Themen erkennbar machen. Der Wor
 kshop lädt gezielt Menschen aller Altersklassen ein\, ihre Gefühle und G
 edanken zum Thema „Verloren in München“ in ihre jeweilige Sprache zu 
 übersetzen\, die Texte vorzulesen und darüber ins Gespräch zu kommen.\n
 \nKursnummer: W247120\n\nDozent: Christian Schüle\n\nGebührenfrei\n\nWei
 tere Informationen finden Sie unter: https://www.mvhs.de/kurse/kultur-kun
 st-kreativitaet/literatur/muenchner-schiene/verloren-in-muenchen/schreib-u
 nd-denkwerkstatt-fuer-alle-generationen-460-C-W247120
CATEGORIES:Schreibwerkstatt
LOCATION:MVHS Bildungszentrum Einstein 28\, Einsteinstraße 28\, München\,
  Deutschland
GEO:48.13534;11.599739999999997
X-APPLE-STRUCTURED-LOCATION;VALUE=URI;X-ADDRESS=Einsteinstraße 28\, Münch
 en\, Deutschland;X-APPLE-RADIUS=100;X-TITLE=MVHS Bildungszentrum Einstein 
 28:geo:48.13534,11.599739999999997
END:VEVENT
BEGIN:VTIMEZONE
TZID:Europe/Berlin
X-LIC-LOCATION:Europe/Berlin
BEGIN:DAYLIGHT
DTSTART:20260329T030000
TZOFFSETFROM:+0100
TZOFFSETTO:+0200
TZNAME:CEST
END:DAYLIGHT
END:VTIMEZONE
END:VCALENDAR