BEGIN:VCALENDAR
VERSION:2.0
PRODID:-//wp-events-plugin.com//7.2.3.1//EN
TZID:Europe/Berlin
X-WR-TIMEZONE:Europe/Berlin
BEGIN:VEVENT
UID:11483@literaturseiten-muenchen.de
DTSTART;TZID=Europe/Berlin:20250919T180000
DTEND;TZID=Europe/Berlin:20250919T180000
DTSTAMP:20250728T121844Z
URL:https://www.literaturseiten-muenchen.de/veranstaltungen/vernissage-im-
 demenzlabyrinth-graphic-novel-zeichnungen-von-albin-zauner/
SUMMARY:Vernissage Im Demenzlabyrinth: Graphic Novel Zeichnungen von Albin 
 Zauner
DESCRIPTION:Eintritt frei\nVeranstaltungsort: Saal im Erdgeschoss\nKann man
  in Zeichnungen erzählen\, wie Menschen mit Demenz ihren Alltag erleben\,
  bewältigen oder daran scheitern? Dem Kunsttherapeuten Albin Zauner ist d
 ieses Kunststück geglückt. Er verdichtet in seinen Zeichnungen die Eindr
 ücke seiner 15-jährigen Arbeit mit Menschen mit Demenz in Bildern\, die 
 Bände erzählen.\n\nEröffnung der Ausstellung mit musikalischer Begleitu
 ng\, Vortrag und Gespräch mit Albin Zauner\n\n\n\nIm Demenzlabyrinth\n\n
 „Verhindern kann ich es nicht\, aber lernen\, besser damit umzugehen\, d
 as geht!“ Eine Veranstaltungsreihe für Menschen\, die mit dem Thema Dem
 enz befasst sind. Kunst\, Vorträge\, und Workshops sowie Gesprächsangebo
 te bieten die Möglichkeit zu Information\, Vernetzung und Stärkung.\n\nI
 nformationen zur Anmeldung\n\n\nOhne Anmeldung\n\n\n\n\nKooperationspartne
 r\n\n\nSeniorenseelsorge der Erzdiözese München\, Dekanat München Nord-
 Ost\n\nMedizinischer Dienst Bayern\n\n\n
CATEGORIES:Ausstellungen
LOCATION:Stadtbibliothek Bogenhausen\, Rosenkavalierplatz 16\, München\, B
 ayern\, 81925\, Deutschland
GEO:48.1522515;11.618572599999993
X-APPLE-STRUCTURED-LOCATION;VALUE=URI;X-ADDRESS=Rosenkavalierplatz 16\, Mü
 nchen\, Bayern\, 81925\, Deutschland;X-APPLE-RADIUS=100;X-TITLE=Stadtbibli
 othek Bogenhausen:geo:48.1522515,11.618572599999993
END:VEVENT
BEGIN:VTIMEZONE
TZID:Europe/Berlin
X-LIC-LOCATION:Europe/Berlin
BEGIN:DAYLIGHT
DTSTART:20250330T030000
TZOFFSETFROM:+0100
TZOFFSETTO:+0200
TZNAME:CEST
END:DAYLIGHT
END:VTIMEZONE
END:VCALENDAR