BEGIN:VCALENDAR
VERSION:2.0
PRODID:-//wp-events-plugin.com//7.2.3.1//EN
TZID:Europe/Berlin
X-WR-TIMEZONE:Europe/Berlin
BEGIN:VEVENT
UID:12429@literaturseiten-muenchen.de
DTSTART;TZID=Europe/Berlin:20260225T103000
DTEND;TZID=Europe/Berlin:20260225T120000
DTSTAMP:20260129T110519Z
URL:https://www.literaturseiten-muenchen.de/veranstaltungen/vier-deutschst
 unden-lenz-kempowski-wolf-grass/
SUMMARY:Vier Deutschstunden: Lenz\, Kempowski\, Wolf\, Grass
DESCRIPTION:In der nationalsozialistischen Diktatur versuchte die nicht ver
 folgte Bevölkerung in privaten Nischen einen von Politik und Ideologie un
 gestörten Alltag zu leben. Dabei aber blieb kein Bereich ausgespart - die
  nationalsozialistische Ideologie drang bis in die Kapillaren der deutsche
 n Gesellschaft ein. In der deutschsprachigen Nachkriegsliteratur haben sic
 h viele Autor*innen damit auseinandergesetzt und ebenso nach dem Pflichtbe
 wusstsein der Deutschen in der Diktatur gefragt wie nach dem Nachleben der
  NS-Mythen nach 1945. In dieser Vortragsreihe geht es anhand von vier Stim
 men um literarische Antworten auf diese politisch hochbrisanten Fragen.\n\
 n- Siegfried Lenz\, Deutschstunde (6. März)\n- Walter Kempowski\, Tadell
 öser &amp\; Wolff (13. März)\n- Christa Wolf\, Kindheitsmuster (20. Mär
 z)\n- Günter Grass\, Im Krebsgang (27. März)\n\nKursnummer: W241040\n\nD
 ozent: Stefan Winter\n\nGebühr: € 36\,-\n\nWeitere Informationen finden
  Sie auf unserer Webseite unter http://mvhs.de\n\n&nbsp\;
CATEGORIES:Vortrag
LOCATION:MVHS Bildungszentrum Einstein 28\, Einsteinstraße 28\, München\,
  Deutschland
GEO:48.13534;11.599739999999997
X-APPLE-STRUCTURED-LOCATION;VALUE=URI;X-ADDRESS=Einsteinstraße 28\, Münch
 en\, Deutschland;X-APPLE-RADIUS=100;X-TITLE=MVHS Bildungszentrum Einstein 
 28:geo:48.13534,11.599739999999997
END:VEVENT
BEGIN:VTIMEZONE
TZID:Europe/Berlin
X-LIC-LOCATION:Europe/Berlin
BEGIN:STANDARD
DTSTART:20251026T020000
TZOFFSETFROM:+0200
TZOFFSETTO:+0100
TZNAME:CET
END:STANDARD
END:VTIMEZONE
END:VCALENDAR