BEGIN:VCALENDAR
VERSION:2.0
PRODID:-//wp-events-plugin.com//7.2.3.1//EN
TZID:Europe/Berlin
X-WR-TIMEZONE:Europe/Berlin
BEGIN:VEVENT
UID:11749@literaturseiten-muenchen.de
DTSTART;TZID=Europe/Berlin:20251127T193000
DTEND;TZID=Europe/Berlin:20251127T210000
DTSTAMP:20250910T190106Z
URL:https://www.literaturseiten-muenchen.de/veranstaltungen/vom-glueck-in-
 kleinen-momenten/
SUMMARY:Vom Glück in kleinen Momenten
DESCRIPTION:Stephan Schäfer im Gespräch mit Achim Bogdahn\n\nDer frühere
  Top-Manager Stephan Schäfer kennt das Leben auf der Überholspur – bis
  ihm die Begegnung mit dem Kartoffelbauer Karl die Frage stellt\, was im L
 eben wirklich zählt.\n\nIn 25 letzte Sommer und seinem neuen Buch Jetzt g
 erade ist alles gut erzählt er von Zufällen\, Wendepunkten und der Suche
  nach einem bewussteren Leben.\n\nAn diesem Abend liest er aus beiden Büc
 hern und spricht mit BR-Moderator Achim Bogdahn über Veränderung\, inner
 e Ruhe und das Glück im Kleinen.
CATEGORIES:Gespräch / Diskussion,Lesung,Literatur &amp; Musik
LOCATION:Stiftung Kunst und Natur\, Karpfsee 12\, Bad Heilbrunn\, 83670\, D
 eutschland
GEO:47.77097;11.43187
X-APPLE-STRUCTURED-LOCATION;VALUE=URI;X-ADDRESS=Karpfsee 12\, Bad Heilbrunn
 \, 83670\, Deutschland;X-APPLE-RADIUS=100;X-TITLE=Stiftung Kunst und Natur
 :geo:47.77097,11.43187
END:VEVENT
BEGIN:VTIMEZONE
TZID:Europe/Berlin
X-LIC-LOCATION:Europe/Berlin
BEGIN:STANDARD
DTSTART:20251026T020000
TZOFFSETFROM:+0200
TZOFFSETTO:+0100
TZNAME:CET
END:STANDARD
END:VTIMEZONE
END:VCALENDAR