BEGIN:VCALENDAR
VERSION:2.0
PRODID:-//wp-events-plugin.com//7.2.3.1//EN
TZID:Europe/Berlin
X-WR-TIMEZONE:Europe/Berlin
BEGIN:VEVENT
UID:11213@literaturseiten-muenchen.de
DTSTART;TZID=Europe/Berlin:20251009T190000
DTEND;TZID=Europe/Berlin:20251009T210000
DTSTAMP:20250606T113204Z
URL:https://www.literaturseiten-muenchen.de/veranstaltungen/vorschau-susan
 -sontag-susan-sontag-glitch-bookstore-sontag-lesen-offener-lesekreis-2/
SUMMARY:SUSAN SONTAG »Susan Sontag &amp\; Glitch Bookstore« ›Sontag Les
 en‹: Offener Lesekreis
DESCRIPTION:Moderation: Fabienne Imlinger\nDie Autorin und Literaturwissens
 chaftlerin Fabienne Imlinger ist Teil des queerfeministischen Kollektivs\,
  das den »glitch bookstore« in der Barerstraße 70 in München betreibt.
  Zusammen mit dem Literaturhaus lädt sie im Offenen Lesekreis ein\, sich 
 über Susan Sontag und ihre Texte auszutauschen. Im Mittelpunkt stehen ins
 besondere Sontags Essays »Anmerkungen zu Camp«\, »Über Fotografie«\, 
 »Aids und seine Metaphern« und »Das Leiden anderer betrachten«\, Texte
  also\, die die gesellschaftliche Auseinandersetzung mit Kunst oder Krankh
 eit\, Krieg oder Fotografie zu Sontags Lebzeiten geprägt haben. Auf welch
 e Weise ermöglichen sie uns auch heute noch\, Falschheiten aller Art krit
 isch gegenüberzutreten? Diskutiert mit!\n\nEINTRITT FREI (Anmeldung pro T
 ermin ab dem 1. September unter sekretariat@literaturhaus-muenchen.de\, ke
 ine Mehrfachanmeldung möglich)\n\nDAUER: 19-21 Uhr\nORT: Literaturhaus //
  Seminar\n\nWEITERE TERMINE:\nDO 26.6. // Literaturhaus\nDO 24.7. &amp\; D
 O 13.11. // glitch bookstore (Barerstraße 70)\n\nGRUPPENGRÖSSE: bis 20 T
 eilnehmende\n\nVeranstalter: Stiftung Literaturhaus // in Kooperation mit 
 dem glitch bookstore München
CATEGORIES:Lesekreis
LOCATION:Literaturhaus Seminarraum\, Salvatorplatz 1\, München\, Bayern\, 
 80333\, Deutschland
GEO:48.142051;11.574991
X-APPLE-STRUCTURED-LOCATION;VALUE=URI;X-ADDRESS=Salvatorplatz 1\, München\
 , Bayern\, 80333\, Deutschland;X-APPLE-RADIUS=100;X-TITLE=Literaturhaus Se
 minarraum:geo:48.142051,11.574991
END:VEVENT
BEGIN:VTIMEZONE
TZID:Europe/Berlin
X-LIC-LOCATION:Europe/Berlin
BEGIN:DAYLIGHT
DTSTART:20250330T030000
TZOFFSETFROM:+0100
TZOFFSETTO:+0200
TZNAME:CEST
END:DAYLIGHT
END:VTIMEZONE
END:VCALENDAR