BEGIN:VCALENDAR
VERSION:2.0
PRODID:-//wp-events-plugin.com//7.2.3.1//EN
TZID:Europe/Berlin
X-WR-TIMEZONE:Europe/Berlin
BEGIN:VEVENT
UID:11214@literaturseiten-muenchen.de
DTSTART;TZID=Europe/Berlin:20251113T190000
DTEND;TZID=Europe/Berlin:20251113T210000
DTSTAMP:20250606T113209Z
URL:https://www.literaturseiten-muenchen.de/veranstaltungen/vorschau-susan
 -sontag-susan-sontag-glitch-bookstore-sontag-lesen-offener-lesekreis-3/
SUMMARY:SUSAN SONTAG »Susan Sontag &amp\; Glitch Bookstore« ›Sontag Les
 en‹: Offener Lesekreis
DESCRIPTION:Moderation: Fabienne Imlinger\nDie Autorin und Literaturwissens
 chaftlerin Fabienne Imlinger ist Teil des queerfeministischen Kollektivs\,
  das den »glitch bookstore« in der Barerstraße 70 in München betreibt.
  Zusammen mit dem Literaturhaus lädt sie im Offenen Lesekreis ein\, sich 
 über Susan Sontag und ihre Texte auszutauschen. Im Mittelpunkt stehen ins
 besondere Sontags Essays »Anmerkungen zu Camp«\, »Über Fotografie«\, 
 »Aids und seine Metaphern« und »Das Leiden anderer betrachten«\, Texte
  also\, die die gesellschaftliche Auseinandersetzung mit Kunst oder Krankh
 eit\, Krieg oder Fotografie zu Sontags Lebzeiten geprägt haben. Auf welch
 e Weise ermöglichen sie uns auch heute noch\, Falschheiten aller Art krit
 isch gegenüberzutreten? Diskutiert mit!\n\nEINTRITT FREI (Anmeldung pro T
 ermin ab dem 1. September unter sekretariat@literaturhaus-muenchen.de\, ke
 ine Mehrfachanmeldung möglich)\n\nDAUER: 19-21 Uhr\nORT: Literaturhaus //
  Seminar\n\nWEITERE TERMINE:\nDO 26.6. // Literaturhaus\nDO 24.7. &amp\; D
 O 13.11. // glitch bookstore (Barerstraße 70)\n\nGRUPPENGRÖSSE: bis 20 T
 eilnehmende\n\nVeranstalter: Stiftung Literaturhaus // in Kooperation mit 
 dem glitch bookstore München
CATEGORIES:Lesekreis
LOCATION:glitch bookstore\, Barerstraße 70\, München\, Bayern\, Deutschla
 nd
GEO:48.151524;11.574313
X-APPLE-STRUCTURED-LOCATION;VALUE=URI;X-ADDRESS=Barerstraße 70\, München\
 , Bayern\, Deutschland;X-APPLE-RADIUS=100;X-TITLE=glitch bookstore:geo:48.
 151524,11.574313
END:VEVENT
BEGIN:VTIMEZONE
TZID:Europe/Berlin
X-LIC-LOCATION:Europe/Berlin
BEGIN:STANDARD
DTSTART:20251026T020000
TZOFFSETFROM:+0200
TZOFFSETTO:+0100
TZNAME:CET
END:STANDARD
END:VTIMEZONE
END:VCALENDAR