BEGIN:VCALENDAR
VERSION:2.0
PRODID:-//wp-events-plugin.com//7.2.3.1//EN
TZID:Europe/Berlin
X-WR-TIMEZONE:Europe/Berlin
BEGIN:VEVENT
UID:11832@literaturseiten-muenchen.de
DTSTART;TZID=Europe/Berlin:20251031T190000
DTEND;TZID=Europe/Berlin:20251031T213000
DTSTAMP:20250925T183855Z
URL:https://www.literaturseiten-muenchen.de/veranstaltungen/vorstellung-de
 r-neuen-lyrikreihe-dicht-an-dicht-des-muenchner-schillo-verlags/
SUMMARY:Vorstellung der neuen Lyrikreihe »dicht an dicht« des Münchner S
 chillo Verlags
DESCRIPTION:Der Schillo Verlag\, München\, stellt seine neue Lyrikreihe »
 dicht an dicht« vor: eine Bühne für Gegenwartslyrik im handlichen Forma
 t. In kleinen Häppchen präsentiert diese Reihe die facettenreiche Vielfa
 lt junger\, deutschsprachiger Poesie.\n\nZum Auftakt lesen Diana Jahr\, Ka
 tharina Wulkow und Emil Bach aus den Bänden 1-3 : »in der stille | werde
 n wir durstig sein«\, »bis es reißt« und »Die Fliege im Präteritum«
 .\n\nStille Bilder\, laute Wut oder bissiger Sprachwitz – ein Abend\, de
 r die Diversität der jungen Lyrik zeigt. Für musikalische Zwischentöne
  sorgt unter anderem Emil Bach.\n\nEintritt € 15\,–\nAnmeldungen und T
 icketkauf über schillo-verlag.de/events
CATEGORIES:Buchpräsentation,Lesung
LOCATION:Lyrik Kabinett\, Amalienstraße 83 a\, München\, Bayern\, 80799\,
  München\, Deutschland
GEO:48.15127;11.578853
X-APPLE-STRUCTURED-LOCATION;VALUE=URI;X-ADDRESS=Amalienstraße 83 a\, Münc
 hen\, Bayern\, 80799\, München\, Deutschland;X-APPLE-RADIUS=100;X-TITLE=L
 yrik Kabinett:geo:48.15127,11.578853
END:VEVENT
BEGIN:VTIMEZONE
TZID:Europe/Berlin
X-LIC-LOCATION:Europe/Berlin
BEGIN:STANDARD
DTSTART:20251026T020000
TZOFFSETFROM:+0200
TZOFFSETTO:+0100
TZNAME:CET
END:STANDARD
END:VTIMEZONE
END:VCALENDAR