BEGIN:VCALENDAR
VERSION:2.0
PRODID:-//wp-events-plugin.com//7.2.3.1//EN
TZID:Europe/Berlin
X-WR-TIMEZONE:Europe/Berlin
BEGIN:VEVENT
UID:11929@literaturseiten-muenchen.de
DTSTART;TZID=Europe/Berlin:20251117T190000
DTEND;TZID=Europe/Berlin:20251117T203000
DTSTAMP:20251014T191740Z
URL:https://www.literaturseiten-muenchen.de/veranstaltungen/vortrag-carear
 beit-im-abseits-bedingungen-durch-ein-bedingungsloses-grundeinkommen/
SUMMARY:Vortrag „Carearbeit im Abseits? Bedingungen durch ein Bedingungsl
 oses Grundeinkommen“
DESCRIPTION:Care-Tätigkeiten sind die Basis jeder Gesellschaft. Doch wir 
 übersehen sie oft\, versagen ihnen die angemessene und nötige Anerkennun
 g. Mehr noch: Fürsorge\, die privat oder ehrenamtlich erbracht wird\, gil
 t im jetzigen Sozialsystem als Störfaktor für erwerbszentrierte Lebensl
 äufe. Fürsorge\, die beruflich erbracht wird\, gilt als Kostenfaktor. Wa
 s würde sich durch ein Bedingungsloses Grundeinkommen (BGE) ändern? Der 
 Vortrag beleuchtet die gegenwärtige Situation von Care-Leistenden und dis
 kutiert\, welche Chancen und Grenzen ein BGE mit sich bringen würde.\nEin
 tritt 7 Euro\nKarten unter gvmoers@yahoo.de
CATEGORIES:Vortrag
LOCATION:Seidlvilla\, Nikolaiplatz 1b\, München\, 80802\, Deutschland
GEO:48.15867;11.587729999999965
X-APPLE-STRUCTURED-LOCATION;VALUE=URI;X-ADDRESS=Nikolaiplatz 1b\, München\
 , 80802\, Deutschland;X-APPLE-RADIUS=100;X-TITLE=Seidlvilla:geo:48.15867,1
 1.587729999999965
END:VEVENT
BEGIN:VTIMEZONE
TZID:Europe/Berlin
X-LIC-LOCATION:Europe/Berlin
BEGIN:STANDARD
DTSTART:20251026T020000
TZOFFSETFROM:+0200
TZOFFSETTO:+0100
TZNAME:CET
END:STANDARD
END:VTIMEZONE
END:VCALENDAR