BEGIN:VCALENDAR
VERSION:2.0
PRODID:-//wp-events-plugin.com//7.2.3.1//EN
TZID:Europe/Berlin
X-WR-TIMEZONE:Europe/Berlin
BEGIN:VEVENT
UID:11767@literaturseiten-muenchen.de
DTSTART;TZID=Europe/Berlin:20251028T200000
DTEND;TZID=Europe/Berlin:20251028T200000
DTSTAMP:20250912T110912Z
URL:https://www.literaturseiten-muenchen.de/veranstaltungen/vortrag-und-ge
 spraech-mit-dr-norbert-goettler-wehrhafte-demokratie/
SUMMARY:Vortrag und Gespräch mit Dr. Norbert Göttler 'Wehrhafte Demokrati
 e'
DESCRIPTION:Wehrhafte Demokratie - was bedeutet das?\n\nNach Jahrzehnten de
 s Wohlstands und der gelebten Demokratie sind beide heute in Frage gestell
 t. Gruppen\, die stattdessen totalitäre und autoritäre Regierungen forde
 rn\, werden größer und lauter - weltweit\, aber auch in Deutschland. Wer
  sich gegen diesen verhängnisvollen Trend stemmen will\, braucht nicht nu
 r guten Willen\, sondern Argumente und Wissen. Auch die "Wehrhafte Demokra
 tie" will gelernt sein. Welche Formen von Demokratie gibt es? Wie mus sich
  reformieren\, um zukunftsfähig zu werden? Wie bedroht ist sie in Deutsch
 land?\n\nDr. Norbert Göttler\, Publizist\, Historiker und Bezirksheimatpf
 leger von Oberbayern a.D. will sich mit den Zuhörern gemeinsam auf den We
 g machen und Grundbegriffe demokratischen Denkens auf ihre Zukunftsfähigk
 eit abklopfen.\n\nBeginn: 20 Uhr\; Eintritt: 5 Euro\n\nUm Anmeldung wird g
 ebeten\ninfo@buchhandlung-subtext.de - 08131/3378192
CATEGORIES:Gespräch / Diskussion,Vortrag
LOCATION:Buchhandlung Subtext\, Sparkassenplatz 4\, Dachau\, Bayern\, 85221
 \, Deutschland
GEO:48.25537;11.43983
X-APPLE-STRUCTURED-LOCATION;VALUE=URI;X-ADDRESS=Sparkassenplatz 4\, Dachau\
 , Bayern\, 85221\, Deutschland;X-APPLE-RADIUS=100;X-TITLE=Buchhandlung Sub
 text:geo:48.25537,11.43983
END:VEVENT
BEGIN:VTIMEZONE
TZID:Europe/Berlin
X-LIC-LOCATION:Europe/Berlin
BEGIN:STANDARD
DTSTART:20251026T020000
TZOFFSETFROM:+0200
TZOFFSETTO:+0100
TZNAME:CET
END:STANDARD
END:VTIMEZONE
END:VCALENDAR