BEGIN:VCALENDAR
VERSION:2.0
PRODID:-//wp-events-plugin.com//7.2.3.1//EN
TZID:Europe/Berlin
X-WR-TIMEZONE:Europe/Berlin
BEGIN:VEVENT
UID:12917@literaturseiten-muenchen.de
DTSTART;TZID=Europe/Berlin:20260611T190000
DTEND;TZID=Europe/Berlin:20260611T210000
DTSTAMP:20260413T095317Z
URL:https://www.literaturseiten-muenchen.de/veranstaltungen/vortragsreihe-
 das-schicksal-de-wortes-und-des-autors/
SUMMARY:Vortragsreihe: Das Schicksal des Wortes und des Autors
DESCRIPTION:In diesem Sommer starten wir unsere Vortragsreihe „Das Schick
 sal des Wortes und das Schicksal des Autors: drei Entscheidungen des 20. J
 ahrhunderts“ in russischer Sprache.\n\nEs ist ein Gespräch über Litera
 tur — und über menschliche Entscheidungen. Darüber\, wie man seine eig
 ene Stimme bewahrt\, wenn die Umstände Druck ausüben und die Welt um ein
 en herum immer härter und unverständlicher wird.\n\nGemeinsam mit der Sc
 hriftstellerin und Drehbuchautorin Ekaterina Perfilieva werfen wir einen B
 lick auf drei Schicksale und drei unterschiedliche Wege:\n\n— Michail Bu
 lgakow — innerhalb des Systems\n\n— Marina Zwietajewa — zwischen den
  Welten\n\n— Iwan Bunin — außerhalb des Systems\n\n&nbsp\;\n\nDie ers
 te Veranstaltung ist Michail Bulgakow gewidmet — einem Menschen\, der ge
 blieben ist und versucht hat\, mit der Macht zu sprechen.\n\nDer Briefe an
  Stalin schrieb und am Moskauer Künstlertheater arbeitete.\n\nDer Manuskr
 ipte verbrannte — und trotzdem weiterschrieb.\n\nWir sprechen über Angs
 t und Freiheit\, über Kompromisse und die innere Grenze\, die man nicht 
 überschreiten kann. Darüber\, wie man sich selbst nicht verliert — sel
 bst innerhalb eines Systems.\n\n&nbsp\;\n\nEintritt: 7 Euro (nur Barzahlun
 g)\n\n \n\nDas Tolstoi Hilfs- und Kulturwerk mit seiner Bibliothek und So
 zialberatung unterstützt seit Jahrzehnten russischsprachige Zuwanderer un
 d Geflüchtete jeder Nationalität und Konfession. Die Tolstoi-Bibliothek 
 bietet neben den fast 60.000 Büchern in russischer Sprache \n\nein kultur
 elles Veranstaltungs- und Kursprogramm.  Die Sozialberatung ist eine neut
 rale Anlaufstelle für alle Zuwanderer\, wo niederschwellig und unkomplizi
 ert geholfen wird.
CATEGORIES:Lesung
LOCATION:Tolstoi-Bibliothek\, Aldringenstrasse 4\, München\, Bayern\, 8063
 9\, Deutschland
GEO:48.155605;11.530988
X-APPLE-STRUCTURED-LOCATION;VALUE=URI;X-ADDRESS=Aldringenstrasse 4\, Münch
 en\, Bayern\, 80639\, Deutschland;X-APPLE-RADIUS=100;X-TITLE=Tolstoi-Bibli
 othek:geo:48.155605,11.530988
END:VEVENT
BEGIN:VTIMEZONE
TZID:Europe/Berlin
X-LIC-LOCATION:Europe/Berlin
BEGIN:DAYLIGHT
DTSTART:20260329T030000
TZOFFSETFROM:+0100
TZOFFSETTO:+0200
TZNAME:CEST
END:DAYLIGHT
END:VTIMEZONE
END:VCALENDAR